BEGIN:VCALENDAR
VERSION:2.0
PRODID:-//The Venue Birstall - ECPv6.15.20//NONSGML v1.0//EN
CALSCALE:GREGORIAN
METHOD:PUBLISH
X-ORIGINAL-URL:https://thevenuebirstall.com
X-WR-CALDESC:Events for The Venue Birstall
REFRESH-INTERVAL;VALUE=DURATION:PT1H
X-Robots-Tag:noindex
X-PUBLISHED-TTL:PT1H
BEGIN:VTIMEZONE
TZID:Europe/London
BEGIN:DAYLIGHT
TZOFFSETFROM:+0000
TZOFFSETTO:+0100
TZNAME:BST
DTSTART:20240331T010000
END:DAYLIGHT
BEGIN:STANDARD
TZOFFSETFROM:+0100
TZOFFSETTO:+0000
TZNAME:GMT
DTSTART:20241027T010000
END:STANDARD
BEGIN:DAYLIGHT
TZOFFSETFROM:+0000
TZOFFSETTO:+0100
TZNAME:BST
DTSTART:20250330T010000
END:DAYLIGHT
BEGIN:STANDARD
TZOFFSETFROM:+0100
TZOFFSETTO:+0000
TZNAME:GMT
DTSTART:20251026T010000
END:STANDARD
BEGIN:DAYLIGHT
TZOFFSETFROM:+0000
TZOFFSETTO:+0100
TZNAME:BST
DTSTART:20260329T010000
END:DAYLIGHT
BEGIN:STANDARD
TZOFFSETFROM:+0100
TZOFFSETTO:+0000
TZNAME:GMT
DTSTART:20261025T010000
END:STANDARD
BEGIN:DAYLIGHT
TZOFFSETFROM:+0000
TZOFFSETTO:+0100
TZNAME:BST
DTSTART:20270328T010000
END:DAYLIGHT
BEGIN:STANDARD
TZOFFSETFROM:+0100
TZOFFSETTO:+0000
TZNAME:GMT
DTSTART:20271031T010000
END:STANDARD
END:VTIMEZONE
BEGIN:VEVENT
DTSTART;TZID=Europe/London:20251228T200000
DTEND;TZID=Europe/London:20260512T003000
DTSTAMP:20260423T230648
CREATED:20210809T110513Z
LAST-MODIFIED:20250624T022719Z
UID:10009081-1766952000-1778545800@thevenuebirstall.com
SUMMARY:Sunday Sequence Dance
DESCRIPTION:Join us from 8.00 pm – 10.30 pm every Sunday for our popular social dance evening. 50% popular Sequence Dancing plus Ballroom and Latin American.\nEnjoy The Venue’s unique atmosphere. Entry £7.00 per person.
URL:https://thevenuebirstall.com/event/sunday-sequence-dance-2023-07-23/
LOCATION:The Venue\, Market Street\, Birstall\, WF17 9EN\, United Kingdom
CATEGORIES:Social Dance Nights
ATTACH;FMTTYPE=image/jpeg:https://thevenuebirstall.com/wp-content/uploads/2020/05/IMG_0664-scaled.jpeg
ORGANIZER;CN="Michael Sandham":MAILTO:enquiries@thevenuebirstall.com
END:VEVENT
BEGIN:VEVENT
DTSTART;TZID=Europe/London:20251228T200000
DTEND;TZID=Europe/London:20260511T233000
DTSTAMP:20260423T230648
CREATED:20210809T110513Z
LAST-MODIFIED:20250624T022716Z
UID:10004539-1766952000-1778542200@thevenuebirstall.com
SUMMARY:Sunday Sequence Dance
DESCRIPTION:Join us from 8.00 pm – 10.30 pm every Sunday for our popular social dance evening. 50% popular Sequence Dancing plus Ballroom and Latin American.\nEnjoy The Venue’s unique atmosphere. Entry £7.00 per person.
URL:https://thevenuebirstall.com/event/sunday-sequence-dance-2023-04-30/
LOCATION:The Venue\, Market Street\, Birstall\, WF17 9EN\, United Kingdom
CATEGORIES:Social Dance Nights
ATTACH;FMTTYPE=image/jpeg:https://thevenuebirstall.com/wp-content/uploads/2020/05/IMG_0664-scaled.jpeg
ORGANIZER;CN="Michael Sandham":MAILTO:enquiries@thevenuebirstall.com
END:VEVENT
BEGIN:VEVENT
DTSTART;TZID=Europe/London:20251228T200000
DTEND;TZID=Europe/London:20260511T233000
DTSTAMP:20260423T230648
CREATED:20210809T110513Z
LAST-MODIFIED:20250624T022716Z
UID:10004923-1766952000-1778542200@thevenuebirstall.com
SUMMARY:Sunday Sequence Dance
DESCRIPTION:Join us from 8.00 pm – 10.30 pm every Sunday for our popular social dance evening. 50% popular Sequence Dancing plus Ballroom and Latin American.\nEnjoy The Venue’s unique atmosphere. Entry £7.00 per person.
URL:https://thevenuebirstall.com/event/sunday-sequence-dance-2023-05-07/
LOCATION:The Venue\, Market Street\, Birstall\, WF17 9EN\, United Kingdom
CATEGORIES:Social Dance Nights
ATTACH;FMTTYPE=image/jpeg:https://thevenuebirstall.com/wp-content/uploads/2020/05/IMG_0664-scaled.jpeg
ORGANIZER;CN="Michael Sandham":MAILTO:enquiries@thevenuebirstall.com
END:VEVENT
BEGIN:VEVENT
DTSTART;TZID=Europe/London:20251228T200000
DTEND;TZID=Europe/London:20260512T003000
DTSTAMP:20260423T230648
CREATED:20210809T110513Z
LAST-MODIFIED:20250624T022719Z
UID:10007959-1766952000-1778545800@thevenuebirstall.com
SUMMARY:Sunday Sequence Dance
DESCRIPTION:Join us from 8.00 pm – 10.30 pm every Sunday for our popular social dance evening. 50% popular Sequence Dancing plus Ballroom and Latin American.\nEnjoy The Venue’s unique atmosphere. Entry £7.00 per person.
URL:https://thevenuebirstall.com/event/sunday-sequence-dance-2023-07-02/
LOCATION:The Venue\, Market Street\, Birstall\, WF17 9EN\, United Kingdom
CATEGORIES:Social Dance Nights
ATTACH;FMTTYPE=image/jpeg:https://thevenuebirstall.com/wp-content/uploads/2020/05/IMG_0664-scaled.jpeg
ORGANIZER;CN="Michael Sandham":MAILTO:enquiries@thevenuebirstall.com
END:VEVENT
BEGIN:VEVENT
DTSTART;TZID=Europe/London:20251228T200000
DTEND;TZID=Europe/London:20260511T233000
DTSTAMP:20260423T230648
CREATED:20210809T110513Z
LAST-MODIFIED:20250624T022716Z
UID:10003381-1766952000-1778542200@thevenuebirstall.com
SUMMARY:Sunday Sequence Dance
DESCRIPTION:Join us from 8.00 pm – 10.30 pm every Sunday for our popular social dance evening. 50% popular Sequence Dancing plus Ballroom and Latin American.\nEnjoy The Venue’s unique atmosphere. Entry £7.00 per person.
URL:https://thevenuebirstall.com/event/sunday-sequence-dance-2023-04-09/
LOCATION:The Venue\, Market Street\, Birstall\, WF17 9EN\, United Kingdom
CATEGORIES:Social Dance Nights
ATTACH;FMTTYPE=image/jpeg:https://thevenuebirstall.com/wp-content/uploads/2020/05/IMG_0664-scaled.jpeg
ORGANIZER;CN="Michael Sandham":MAILTO:enquiries@thevenuebirstall.com
END:VEVENT
BEGIN:VEVENT
DTSTART;TZID=Europe/London:20251228T200000
DTEND;TZID=Europe/London:20260511T233000
DTSTAMP:20260423T230648
CREATED:20210809T110513Z
LAST-MODIFIED:20250624T022717Z
UID:10006449-1766952000-1778542200@thevenuebirstall.com
SUMMARY:Sunday Sequence Dance
DESCRIPTION:Join us from 8.00 pm – 10.30 pm every Sunday for our popular social dance evening. 50% popular Sequence Dancing plus Ballroom and Latin American.\nEnjoy The Venue’s unique atmosphere. Entry £7.00 per person.
URL:https://thevenuebirstall.com/event/sunday-sequence-dance-2023-06-04/
LOCATION:The Venue\, Market Street\, Birstall\, WF17 9EN\, United Kingdom
CATEGORIES:Social Dance Nights
ATTACH;FMTTYPE=image/jpeg:https://thevenuebirstall.com/wp-content/uploads/2020/05/IMG_0664-scaled.jpeg
ORGANIZER;CN="Michael Sandham":MAILTO:enquiries@thevenuebirstall.com
END:VEVENT
BEGIN:VEVENT
DTSTART;TZID=Europe/London:20251228T200000
DTEND;TZID=Europe/London:20260512T003000
DTSTAMP:20260423T230648
CREATED:20210809T110513Z
LAST-MODIFIED:20250624T022719Z
UID:10009453-1766952000-1778545800@thevenuebirstall.com
SUMMARY:Sunday Sequence Dance
DESCRIPTION:Join us from 8.00 pm – 10.30 pm every Sunday for our popular social dance evening. 50% popular Sequence Dancing plus Ballroom and Latin American.\nEnjoy The Venue’s unique atmosphere. Entry £7.00 per person.
URL:https://thevenuebirstall.com/event/sunday-sequence-dance-2023-07-30/
LOCATION:The Venue\, Market Street\, Birstall\, WF17 9EN\, United Kingdom
CATEGORIES:Social Dance Nights
ATTACH;FMTTYPE=image/jpeg:https://thevenuebirstall.com/wp-content/uploads/2020/05/IMG_0664-scaled.jpeg
ORGANIZER;CN="Michael Sandham":MAILTO:enquiries@thevenuebirstall.com
END:VEVENT
BEGIN:VEVENT
DTSTART;TZID=Europe/London:20260104T200000
DTEND;TZID=Europe/London:20260518T233000
DTSTAMP:20260423T230648
CREATED:20210809T110513Z
LAST-MODIFIED:20250624T022716Z
UID:10004924-1767556800-1779147000@thevenuebirstall.com
SUMMARY:Sunday Sequence Dance
DESCRIPTION:Join us from 8.00 pm – 10.30 pm every Sunday for our popular social dance evening. 50% popular Sequence Dancing plus Ballroom and Latin American.\nEnjoy The Venue’s unique atmosphere. Entry £7.00 per person.
URL:https://thevenuebirstall.com/event/sunday-sequence-dance-2023-05-07/
LOCATION:The Venue\, Market Street\, Birstall\, WF17 9EN\, United Kingdom
CATEGORIES:Social Dance Nights
ATTACH;FMTTYPE=image/jpeg:https://thevenuebirstall.com/wp-content/uploads/2020/05/IMG_0664-scaled.jpeg
ORGANIZER;CN="Michael Sandham":MAILTO:enquiries@thevenuebirstall.com
END:VEVENT
BEGIN:VEVENT
DTSTART;TZID=Europe/London:20260104T200000
DTEND;TZID=Europe/London:20260519T003000
DTSTAMP:20260423T230648
CREATED:20210809T110513Z
LAST-MODIFIED:20250624T022719Z
UID:10007960-1767556800-1779150600@thevenuebirstall.com
SUMMARY:Sunday Sequence Dance
DESCRIPTION:Join us from 8.00 pm – 10.30 pm every Sunday for our popular social dance evening. 50% popular Sequence Dancing plus Ballroom and Latin American.\nEnjoy The Venue’s unique atmosphere. Entry £7.00 per person.
URL:https://thevenuebirstall.com/event/sunday-sequence-dance-2023-07-02/
LOCATION:The Venue\, Market Street\, Birstall\, WF17 9EN\, United Kingdom
CATEGORIES:Social Dance Nights
ATTACH;FMTTYPE=image/jpeg:https://thevenuebirstall.com/wp-content/uploads/2020/05/IMG_0664-scaled.jpeg
ORGANIZER;CN="Michael Sandham":MAILTO:enquiries@thevenuebirstall.com
END:VEVENT
BEGIN:VEVENT
DTSTART;TZID=Europe/London:20260104T200000
DTEND;TZID=Europe/London:20260518T233000
DTSTAMP:20260423T230648
CREATED:20210809T110513Z
LAST-MODIFIED:20250624T022716Z
UID:10003382-1767556800-1779147000@thevenuebirstall.com
SUMMARY:Sunday Sequence Dance
DESCRIPTION:Join us from 8.00 pm – 10.30 pm every Sunday for our popular social dance evening. 50% popular Sequence Dancing plus Ballroom and Latin American.\nEnjoy The Venue’s unique atmosphere. Entry £7.00 per person.
URL:https://thevenuebirstall.com/event/sunday-sequence-dance-2023-04-09/
LOCATION:The Venue\, Market Street\, Birstall\, WF17 9EN\, United Kingdom
CATEGORIES:Social Dance Nights
ATTACH;FMTTYPE=image/jpeg:https://thevenuebirstall.com/wp-content/uploads/2020/05/IMG_0664-scaled.jpeg
ORGANIZER;CN="Michael Sandham":MAILTO:enquiries@thevenuebirstall.com
END:VEVENT
BEGIN:VEVENT
DTSTART;TZID=Europe/London:20260104T200000
DTEND;TZID=Europe/London:20260518T233000
DTSTAMP:20260423T230648
CREATED:20210809T110513Z
LAST-MODIFIED:20250624T022717Z
UID:10006450-1767556800-1779147000@thevenuebirstall.com
SUMMARY:Sunday Sequence Dance
DESCRIPTION:Join us from 8.00 pm – 10.30 pm every Sunday for our popular social dance evening. 50% popular Sequence Dancing plus Ballroom and Latin American.\nEnjoy The Venue’s unique atmosphere. Entry £7.00 per person.
URL:https://thevenuebirstall.com/event/sunday-sequence-dance-2023-06-04/
LOCATION:The Venue\, Market Street\, Birstall\, WF17 9EN\, United Kingdom
CATEGORIES:Social Dance Nights
ATTACH;FMTTYPE=image/jpeg:https://thevenuebirstall.com/wp-content/uploads/2020/05/IMG_0664-scaled.jpeg
ORGANIZER;CN="Michael Sandham":MAILTO:enquiries@thevenuebirstall.com
END:VEVENT
BEGIN:VEVENT
DTSTART;TZID=Europe/London:20260104T200000
DTEND;TZID=Europe/London:20260519T003000
DTSTAMP:20260423T230648
CREATED:20210809T110513Z
LAST-MODIFIED:20250624T022719Z
UID:10009454-1767556800-1779150600@thevenuebirstall.com
SUMMARY:Sunday Sequence Dance
DESCRIPTION:Join us from 8.00 pm – 10.30 pm every Sunday for our popular social dance evening. 50% popular Sequence Dancing plus Ballroom and Latin American.\nEnjoy The Venue’s unique atmosphere. Entry £7.00 per person.
URL:https://thevenuebirstall.com/event/sunday-sequence-dance-2023-07-30/
LOCATION:The Venue\, Market Street\, Birstall\, WF17 9EN\, United Kingdom
CATEGORIES:Social Dance Nights
ATTACH;FMTTYPE=image/jpeg:https://thevenuebirstall.com/wp-content/uploads/2020/05/IMG_0664-scaled.jpeg
ORGANIZER;CN="Michael Sandham":MAILTO:enquiries@thevenuebirstall.com
END:VEVENT
BEGIN:VEVENT
DTSTART;TZID=Europe/London:20260104T200000
DTEND;TZID=Europe/London:20260518T233000
DTSTAMP:20260423T230648
CREATED:20210809T110513Z
LAST-MODIFIED:20250624T022717Z
UID:10005307-1767556800-1779147000@thevenuebirstall.com
SUMMARY:Sunday Sequence Dance
DESCRIPTION:Join us from 8.00 pm – 10.30 pm every Sunday for our popular social dance evening. 50% popular Sequence Dancing plus Ballroom and Latin American.\nEnjoy The Venue’s unique atmosphere. Entry £7.00 per person.
URL:https://thevenuebirstall.com/event/sunday-sequence-dance-2023-05-14/
LOCATION:The Venue\, Market Street\, Birstall\, WF17 9EN\, United Kingdom
CATEGORIES:Social Dance Nights
ATTACH;FMTTYPE=image/jpeg:https://thevenuebirstall.com/wp-content/uploads/2020/05/IMG_0664-scaled.jpeg
ORGANIZER;CN="Michael Sandham":MAILTO:enquiries@thevenuebirstall.com
END:VEVENT
BEGIN:VEVENT
DTSTART;TZID=Europe/London:20260104T200000
DTEND;TZID=Europe/London:20260519T003000
DTSTAMP:20260423T230648
CREATED:20210809T110513Z
LAST-MODIFIED:20250624T022719Z
UID:10008335-1767556800-1779150600@thevenuebirstall.com
SUMMARY:Sunday Sequence Dance
DESCRIPTION:Join us from 8.00 pm – 10.30 pm every Sunday for our popular social dance evening. 50% popular Sequence Dancing plus Ballroom and Latin American.\nEnjoy The Venue’s unique atmosphere. Entry £7.00 per person.
URL:https://thevenuebirstall.com/event/sunday-sequence-dance-2023-07-09/
LOCATION:The Venue\, Market Street\, Birstall\, WF17 9EN\, United Kingdom
CATEGORIES:Social Dance Nights
ATTACH;FMTTYPE=image/jpeg:https://thevenuebirstall.com/wp-content/uploads/2020/05/IMG_0664-scaled.jpeg
ORGANIZER;CN="Michael Sandham":MAILTO:enquiries@thevenuebirstall.com
END:VEVENT
BEGIN:VEVENT
DTSTART;TZID=Europe/London:20260104T200000
DTEND;TZID=Europe/London:20260518T233000
DTSTAMP:20260423T230648
CREATED:20210809T110513Z
LAST-MODIFIED:20250624T022716Z
UID:10003769-1767556800-1779147000@thevenuebirstall.com
SUMMARY:Sunday Sequence Dance
DESCRIPTION:Join us from 8.00 pm – 10.30 pm every Sunday for our popular social dance evening. 50% popular Sequence Dancing plus Ballroom and Latin American.\nEnjoy The Venue’s unique atmosphere. Entry £7.00 per person.
URL:https://thevenuebirstall.com/event/sunday-sequence-dance-2023-04-16/
LOCATION:The Venue\, Market Street\, Birstall\, WF17 9EN\, United Kingdom
CATEGORIES:Social Dance Nights
ATTACH;FMTTYPE=image/jpeg:https://thevenuebirstall.com/wp-content/uploads/2020/05/IMG_0664-scaled.jpeg
ORGANIZER;CN="Michael Sandham":MAILTO:enquiries@thevenuebirstall.com
END:VEVENT
BEGIN:VEVENT
DTSTART;TZID=Europe/London:20260104T200000
DTEND;TZID=Europe/London:20260518T233000
DTSTAMP:20260423T230648
CREATED:20210809T110513Z
LAST-MODIFIED:20250624T022718Z
UID:10006829-1767556800-1779147000@thevenuebirstall.com
SUMMARY:Sunday Sequence Dance
DESCRIPTION:Join us from 8.00 pm – 10.30 pm every Sunday for our popular social dance evening. 50% popular Sequence Dancing plus Ballroom and Latin American.\nEnjoy The Venue’s unique atmosphere. Entry £7.00 per person.
URL:https://thevenuebirstall.com/event/sunday-sequence-dance-2023-06-11/
LOCATION:The Venue\, Market Street\, Birstall\, WF17 9EN\, United Kingdom
CATEGORIES:Social Dance Nights
ATTACH;FMTTYPE=image/jpeg:https://thevenuebirstall.com/wp-content/uploads/2020/05/IMG_0664-scaled.jpeg
ORGANIZER;CN="Michael Sandham":MAILTO:enquiries@thevenuebirstall.com
END:VEVENT
BEGIN:VEVENT
DTSTART;TZID=Europe/London:20260104T200000
DTEND;TZID=Europe/London:20260518T233000
DTSTAMP:20260423T230648
CREATED:20210809T110513Z
LAST-MODIFIED:20250624T022715Z
UID:10002605-1767556800-1779147000@thevenuebirstall.com
SUMMARY:Sunday Sequence Dance
DESCRIPTION:Join us from 8.00 pm – 10.30 pm every Sunday for our popular social dance evening. 50% popular Sequence Dancing plus Ballroom and Latin American.\nEnjoy The Venue’s unique atmosphere. Entry £7.00 per person.
URL:https://thevenuebirstall.com/event/sunday-sequence-dance-2023-03-26/
LOCATION:The Venue\, Market Street\, Birstall\, WF17 9EN\, United Kingdom
CATEGORIES:Social Dance Nights
ATTACH;FMTTYPE=image/jpeg:https://thevenuebirstall.com/wp-content/uploads/2020/05/IMG_0664-scaled.jpeg
ORGANIZER;CN="Michael Sandham":MAILTO:enquiries@thevenuebirstall.com
END:VEVENT
BEGIN:VEVENT
DTSTART;TZID=Europe/London:20260104T200000
DTEND;TZID=Europe/London:20260518T233000
DTSTAMP:20260423T230648
CREATED:20210809T110513Z
LAST-MODIFIED:20250624T022717Z
UID:10005689-1767556800-1779147000@thevenuebirstall.com
SUMMARY:Sunday Sequence Dance
DESCRIPTION:Join us from 8.00 pm – 10.30 pm every Sunday for our popular social dance evening. 50% popular Sequence Dancing plus Ballroom and Latin American.\nEnjoy The Venue’s unique atmosphere. Entry £7.00 per person.
URL:https://thevenuebirstall.com/event/sunday-sequence-dance-2023-05-21/
LOCATION:The Venue\, Market Street\, Birstall\, WF17 9EN\, United Kingdom
CATEGORIES:Social Dance Nights
ATTACH;FMTTYPE=image/jpeg:https://thevenuebirstall.com/wp-content/uploads/2020/05/IMG_0664-scaled.jpeg
ORGANIZER;CN="Michael Sandham":MAILTO:enquiries@thevenuebirstall.com
END:VEVENT
BEGIN:VEVENT
DTSTART;TZID=Europe/London:20260104T200000
DTEND;TZID=Europe/London:20260519T003000
DTSTAMP:20260423T230648
CREATED:20210809T110513Z
LAST-MODIFIED:20250624T022719Z
UID:10008709-1767556800-1779150600@thevenuebirstall.com
SUMMARY:Sunday Sequence Dance
DESCRIPTION:Join us from 8.00 pm – 10.30 pm every Sunday for our popular social dance evening. 50% popular Sequence Dancing plus Ballroom and Latin American.\nEnjoy The Venue’s unique atmosphere. Entry £7.00 per person.
URL:https://thevenuebirstall.com/event/sunday-sequence-dance-2023-07-16/
LOCATION:The Venue\, Market Street\, Birstall\, WF17 9EN\, United Kingdom
CATEGORIES:Social Dance Nights
ATTACH;FMTTYPE=image/jpeg:https://thevenuebirstall.com/wp-content/uploads/2020/05/IMG_0664-scaled.jpeg
ORGANIZER;CN="Michael Sandham":MAILTO:enquiries@thevenuebirstall.com
END:VEVENT
BEGIN:VEVENT
DTSTART;TZID=Europe/London:20260104T200000
DTEND;TZID=Europe/London:20260518T233000
DTSTAMP:20260423T230648
CREATED:20210809T110513Z
LAST-MODIFIED:20250624T022716Z
UID:10004155-1767556800-1779147000@thevenuebirstall.com
SUMMARY:Sunday Sequence Dance
DESCRIPTION:Join us from 8.00 pm – 10.30 pm every Sunday for our popular social dance evening. 50% popular Sequence Dancing plus Ballroom and Latin American.\nEnjoy The Venue’s unique atmosphere. Entry £7.00 per person.
URL:https://thevenuebirstall.com/event/sunday-sequence-dance-2023-04-23/
LOCATION:The Venue\, Market Street\, Birstall\, WF17 9EN\, United Kingdom
CATEGORIES:Social Dance Nights
ATTACH;FMTTYPE=image/jpeg:https://thevenuebirstall.com/wp-content/uploads/2020/05/IMG_0664-scaled.jpeg
ORGANIZER;CN="Michael Sandham":MAILTO:enquiries@thevenuebirstall.com
END:VEVENT
BEGIN:VEVENT
DTSTART;TZID=Europe/London:20260104T200000
DTEND;TZID=Europe/London:20260519T003000
DTSTAMP:20260423T230648
CREATED:20210809T110513Z
LAST-MODIFIED:20250624T022718Z
UID:10007207-1767556800-1779150600@thevenuebirstall.com
SUMMARY:Sunday Sequence Dance
DESCRIPTION:Join us from 8.00 pm – 10.30 pm every Sunday for our popular social dance evening. 50% popular Sequence Dancing plus Ballroom and Latin American.\nEnjoy The Venue’s unique atmosphere. Entry £7.00 per person.
URL:https://thevenuebirstall.com/event/sunday-sequence-dance-2023-06-18/
LOCATION:The Venue\, Market Street\, Birstall\, WF17 9EN\, United Kingdom
CATEGORIES:Social Dance Nights
ATTACH;FMTTYPE=image/jpeg:https://thevenuebirstall.com/wp-content/uploads/2020/05/IMG_0664-scaled.jpeg
ORGANIZER;CN="Michael Sandham":MAILTO:enquiries@thevenuebirstall.com
END:VEVENT
BEGIN:VEVENT
DTSTART;TZID=Europe/London:20260104T200000
DTEND;TZID=Europe/London:20260519T003000
DTSTAMP:20260423T230648
CREATED:20210809T110513Z
LAST-MODIFIED:20250624T022719Z
UID:10007584-1767556800-1779150600@thevenuebirstall.com
SUMMARY:Sunday Sequence Dance
DESCRIPTION:Join us from 8.00 pm – 10.30 pm every Sunday for our popular social dance evening. 50% popular Sequence Dancing plus Ballroom and Latin American.\nEnjoy The Venue’s unique atmosphere. Entry £7.00 per person.
URL:https://thevenuebirstall.com/event/sunday-sequence-dance-2023-06-25/
LOCATION:The Venue\, Market Street\, Birstall\, WF17 9EN\, United Kingdom
CATEGORIES:Social Dance Nights
ATTACH;FMTTYPE=image/jpeg:https://thevenuebirstall.com/wp-content/uploads/2020/05/IMG_0664-scaled.jpeg
ORGANIZER;CN="Michael Sandham":MAILTO:enquiries@thevenuebirstall.com
END:VEVENT
BEGIN:VEVENT
DTSTART;TZID=Europe/London:20260104T200000
DTEND;TZID=Europe/London:20260518T233000
DTSTAMP:20260423T230648
CREATED:20210809T110513Z
LAST-MODIFIED:20250624T022715Z
UID:10002994-1767556800-1779147000@thevenuebirstall.com
SUMMARY:Sunday Sequence Dance
DESCRIPTION:Join us from 8.00 pm – 10.30 pm every Sunday for our popular social dance evening. 50% popular Sequence Dancing plus Ballroom and Latin American.\nEnjoy The Venue’s unique atmosphere. Entry £7.00 per person.
URL:https://thevenuebirstall.com/event/sunday-sequence-dance-2023-04-02/
LOCATION:The Venue\, Market Street\, Birstall\, WF17 9EN\, United Kingdom
CATEGORIES:Social Dance Nights
ATTACH;FMTTYPE=image/jpeg:https://thevenuebirstall.com/wp-content/uploads/2020/05/IMG_0664-scaled.jpeg
ORGANIZER;CN="Michael Sandham":MAILTO:enquiries@thevenuebirstall.com
END:VEVENT
BEGIN:VEVENT
DTSTART;TZID=Europe/London:20260104T200000
DTEND;TZID=Europe/London:20260518T233000
DTSTAMP:20260423T230648
CREATED:20210809T110513Z
LAST-MODIFIED:20250624T022717Z
UID:10006070-1767556800-1779147000@thevenuebirstall.com
SUMMARY:Sunday Sequence Dance
DESCRIPTION:Join us from 8.00 pm – 10.30 pm every Sunday for our popular social dance evening. 50% popular Sequence Dancing plus Ballroom and Latin American.\nEnjoy The Venue’s unique atmosphere. Entry £7.00 per person.
URL:https://thevenuebirstall.com/event/sunday-sequence-dance-2023-05-28/
LOCATION:The Venue\, Market Street\, Birstall\, WF17 9EN\, United Kingdom
CATEGORIES:Social Dance Nights
ATTACH;FMTTYPE=image/jpeg:https://thevenuebirstall.com/wp-content/uploads/2020/05/IMG_0664-scaled.jpeg
ORGANIZER;CN="Michael Sandham":MAILTO:enquiries@thevenuebirstall.com
END:VEVENT
BEGIN:VEVENT
DTSTART;TZID=Europe/London:20260104T200000
DTEND;TZID=Europe/London:20260519T003000
DTSTAMP:20260423T230648
CREATED:20210809T110513Z
LAST-MODIFIED:20250624T022719Z
UID:10009082-1767556800-1779150600@thevenuebirstall.com
SUMMARY:Sunday Sequence Dance
DESCRIPTION:Join us from 8.00 pm – 10.30 pm every Sunday for our popular social dance evening. 50% popular Sequence Dancing plus Ballroom and Latin American.\nEnjoy The Venue’s unique atmosphere. Entry £7.00 per person.
URL:https://thevenuebirstall.com/event/sunday-sequence-dance-2023-07-23/
LOCATION:The Venue\, Market Street\, Birstall\, WF17 9EN\, United Kingdom
CATEGORIES:Social Dance Nights
ATTACH;FMTTYPE=image/jpeg:https://thevenuebirstall.com/wp-content/uploads/2020/05/IMG_0664-scaled.jpeg
ORGANIZER;CN="Michael Sandham":MAILTO:enquiries@thevenuebirstall.com
END:VEVENT
BEGIN:VEVENT
DTSTART;TZID=Europe/London:20260104T200000
DTEND;TZID=Europe/London:20260518T233000
DTSTAMP:20260423T230648
CREATED:20210809T110513Z
LAST-MODIFIED:20250624T022716Z
UID:10004540-1767556800-1779147000@thevenuebirstall.com
SUMMARY:Sunday Sequence Dance
DESCRIPTION:Join us from 8.00 pm – 10.30 pm every Sunday for our popular social dance evening. 50% popular Sequence Dancing plus Ballroom and Latin American.\nEnjoy The Venue’s unique atmosphere. Entry £7.00 per person.
URL:https://thevenuebirstall.com/event/sunday-sequence-dance-2023-04-30/
LOCATION:The Venue\, Market Street\, Birstall\, WF17 9EN\, United Kingdom
CATEGORIES:Social Dance Nights
ATTACH;FMTTYPE=image/jpeg:https://thevenuebirstall.com/wp-content/uploads/2020/05/IMG_0664-scaled.jpeg
ORGANIZER;CN="Michael Sandham":MAILTO:enquiries@thevenuebirstall.com
END:VEVENT
BEGIN:VEVENT
DTSTART;TZID=Europe/London:20260111T200000
DTEND;TZID=Europe/London:20260525T233000
DTSTAMP:20260423T230648
CREATED:20210809T110513Z
LAST-MODIFIED:20250624T022716Z
UID:10004925-1768161600-1779751800@thevenuebirstall.com
SUMMARY:Sunday Sequence Dance
DESCRIPTION:Join us from 8.00 pm – 10.30 pm every Sunday for our popular social dance evening. 50% popular Sequence Dancing plus Ballroom and Latin American.\nEnjoy The Venue’s unique atmosphere. Entry £7.00 per person.
URL:https://thevenuebirstall.com/event/sunday-sequence-dance-2023-05-07/
LOCATION:The Venue\, Market Street\, Birstall\, WF17 9EN\, United Kingdom
CATEGORIES:Social Dance Nights
ATTACH;FMTTYPE=image/jpeg:https://thevenuebirstall.com/wp-content/uploads/2020/05/IMG_0664-scaled.jpeg
ORGANIZER;CN="Michael Sandham":MAILTO:enquiries@thevenuebirstall.com
END:VEVENT
BEGIN:VEVENT
DTSTART;TZID=Europe/London:20260111T200000
DTEND;TZID=Europe/London:20260526T003000
DTSTAMP:20260423T230648
CREATED:20210809T110513Z
LAST-MODIFIED:20250624T022719Z
UID:10007961-1768161600-1779755400@thevenuebirstall.com
SUMMARY:Sunday Sequence Dance
DESCRIPTION:Join us from 8.00 pm – 10.30 pm every Sunday for our popular social dance evening. 50% popular Sequence Dancing plus Ballroom and Latin American.\nEnjoy The Venue’s unique atmosphere. Entry £7.00 per person.
URL:https://thevenuebirstall.com/event/sunday-sequence-dance-2023-07-02/
LOCATION:The Venue\, Market Street\, Birstall\, WF17 9EN\, United Kingdom
CATEGORIES:Social Dance Nights
ATTACH;FMTTYPE=image/jpeg:https://thevenuebirstall.com/wp-content/uploads/2020/05/IMG_0664-scaled.jpeg
ORGANIZER;CN="Michael Sandham":MAILTO:enquiries@thevenuebirstall.com
END:VEVENT
BEGIN:VEVENT
DTSTART;TZID=Europe/London:20260111T200000
DTEND;TZID=Europe/London:20260525T233000
DTSTAMP:20260423T230648
CREATED:20210809T110513Z
LAST-MODIFIED:20250624T022716Z
UID:10003383-1768161600-1779751800@thevenuebirstall.com
SUMMARY:Sunday Sequence Dance
DESCRIPTION:Join us from 8.00 pm – 10.30 pm every Sunday for our popular social dance evening. 50% popular Sequence Dancing plus Ballroom and Latin American.\nEnjoy The Venue’s unique atmosphere. Entry £7.00 per person.
URL:https://thevenuebirstall.com/event/sunday-sequence-dance-2023-04-09/
LOCATION:The Venue\, Market Street\, Birstall\, WF17 9EN\, United Kingdom
CATEGORIES:Social Dance Nights
ATTACH;FMTTYPE=image/jpeg:https://thevenuebirstall.com/wp-content/uploads/2020/05/IMG_0664-scaled.jpeg
ORGANIZER;CN="Michael Sandham":MAILTO:enquiries@thevenuebirstall.com
END:VEVENT
BEGIN:VEVENT
DTSTART;TZID=Europe/London:20260111T200000
DTEND;TZID=Europe/London:20260525T233000
DTSTAMP:20260423T230648
CREATED:20210809T110513Z
LAST-MODIFIED:20250624T022717Z
UID:10006451-1768161600-1779751800@thevenuebirstall.com
SUMMARY:Sunday Sequence Dance
DESCRIPTION:Join us from 8.00 pm – 10.30 pm every Sunday for our popular social dance evening. 50% popular Sequence Dancing plus Ballroom and Latin American.\nEnjoy The Venue’s unique atmosphere. Entry £7.00 per person.
URL:https://thevenuebirstall.com/event/sunday-sequence-dance-2023-06-04/
LOCATION:The Venue\, Market Street\, Birstall\, WF17 9EN\, United Kingdom
CATEGORIES:Social Dance Nights
ATTACH;FMTTYPE=image/jpeg:https://thevenuebirstall.com/wp-content/uploads/2020/05/IMG_0664-scaled.jpeg
ORGANIZER;CN="Michael Sandham":MAILTO:enquiries@thevenuebirstall.com
END:VEVENT
END:VCALENDAR