BEGIN:VCALENDAR
VERSION:2.0
PRODID:-//The Venue Birstall - ECPv6.15.20//NONSGML v1.0//EN
CALSCALE:GREGORIAN
METHOD:PUBLISH
X-ORIGINAL-URL:https://thevenuebirstall.com
X-WR-CALDESC:Events for The Venue Birstall
REFRESH-INTERVAL;VALUE=DURATION:PT1H
X-Robots-Tag:noindex
X-PUBLISHED-TTL:PT1H
BEGIN:VTIMEZONE
TZID:Europe/London
BEGIN:DAYLIGHT
TZOFFSETFROM:+0000
TZOFFSETTO:+0100
TZNAME:BST
DTSTART:20250330T010000
END:DAYLIGHT
BEGIN:STANDARD
TZOFFSETFROM:+0100
TZOFFSETTO:+0000
TZNAME:GMT
DTSTART:20251026T010000
END:STANDARD
BEGIN:DAYLIGHT
TZOFFSETFROM:+0000
TZOFFSETTO:+0100
TZNAME:BST
DTSTART:20260329T010000
END:DAYLIGHT
BEGIN:STANDARD
TZOFFSETFROM:+0100
TZOFFSETTO:+0000
TZNAME:GMT
DTSTART:20261025T010000
END:STANDARD
BEGIN:DAYLIGHT
TZOFFSETFROM:+0000
TZOFFSETTO:+0100
TZNAME:BST
DTSTART:20270328T010000
END:DAYLIGHT
BEGIN:STANDARD
TZOFFSETFROM:+0100
TZOFFSETTO:+0000
TZNAME:GMT
DTSTART:20271031T010000
END:STANDARD
END:VTIMEZONE
BEGIN:VEVENT
DTSTART;TZID=Europe/London:20260118T200000
DTEND;TZID=Europe/London:20260602T003000
DTSTAMP:20260424T110226
CREATED:20210809T110513Z
LAST-MODIFIED:20250624T022718Z
UID:10007209-1768766400-1780360200@thevenuebirstall.com
SUMMARY:Sunday Sequence Dance
DESCRIPTION:Join us from 8.00 pm – 10.30 pm every Sunday for our popular social dance evening. 50% popular Sequence Dancing plus Ballroom and Latin American.\nEnjoy The Venue’s unique atmosphere. Entry £7.00 per person.
URL:https://thevenuebirstall.com/event/sunday-sequence-dance-2023-06-18/
LOCATION:The Venue\, Market Street\, Birstall\, WF17 9EN\, United Kingdom
CATEGORIES:Social Dance Nights
ATTACH;FMTTYPE=image/jpeg:https://thevenuebirstall.com/wp-content/uploads/2020/05/IMG_0664-scaled.jpeg
ORGANIZER;CN="Michael Sandham":MAILTO:enquiries@thevenuebirstall.com
END:VEVENT
BEGIN:VEVENT
DTSTART;TZID=Europe/London:20260118T200000
DTEND;TZID=Europe/London:20260601T233000
DTSTAMP:20260424T110226
CREATED:20210809T110513Z
LAST-MODIFIED:20250624T022715Z
UID:10002607-1768766400-1780356600@thevenuebirstall.com
SUMMARY:Sunday Sequence Dance
DESCRIPTION:Join us from 8.00 pm – 10.30 pm every Sunday for our popular social dance evening. 50% popular Sequence Dancing plus Ballroom and Latin American.\nEnjoy The Venue’s unique atmosphere. Entry £7.00 per person.
URL:https://thevenuebirstall.com/event/sunday-sequence-dance-2023-03-26/
LOCATION:The Venue\, Market Street\, Birstall\, WF17 9EN\, United Kingdom
CATEGORIES:Social Dance Nights
ATTACH;FMTTYPE=image/jpeg:https://thevenuebirstall.com/wp-content/uploads/2020/05/IMG_0664-scaled.jpeg
ORGANIZER;CN="Michael Sandham":MAILTO:enquiries@thevenuebirstall.com
END:VEVENT
BEGIN:VEVENT
DTSTART;TZID=Europe/London:20260118T200000
DTEND;TZID=Europe/London:20260601T233000
DTSTAMP:20260424T110226
CREATED:20210809T110513Z
LAST-MODIFIED:20250624T022717Z
UID:10005691-1768766400-1780356600@thevenuebirstall.com
SUMMARY:Sunday Sequence Dance
DESCRIPTION:Join us from 8.00 pm – 10.30 pm every Sunday for our popular social dance evening. 50% popular Sequence Dancing plus Ballroom and Latin American.\nEnjoy The Venue’s unique atmosphere. Entry £7.00 per person.
URL:https://thevenuebirstall.com/event/sunday-sequence-dance-2023-05-21/
LOCATION:The Venue\, Market Street\, Birstall\, WF17 9EN\, United Kingdom
CATEGORIES:Social Dance Nights
ATTACH;FMTTYPE=image/jpeg:https://thevenuebirstall.com/wp-content/uploads/2020/05/IMG_0664-scaled.jpeg
ORGANIZER;CN="Michael Sandham":MAILTO:enquiries@thevenuebirstall.com
END:VEVENT
BEGIN:VEVENT
DTSTART;TZID=Europe/London:20260118T200000
DTEND;TZID=Europe/London:20260602T003000
DTSTAMP:20260424T110226
CREATED:20210809T110513Z
LAST-MODIFIED:20250624T022719Z
UID:10008711-1768766400-1780360200@thevenuebirstall.com
SUMMARY:Sunday Sequence Dance
DESCRIPTION:Join us from 8.00 pm – 10.30 pm every Sunday for our popular social dance evening. 50% popular Sequence Dancing plus Ballroom and Latin American.\nEnjoy The Venue’s unique atmosphere. Entry £7.00 per person.
URL:https://thevenuebirstall.com/event/sunday-sequence-dance-2023-07-16/
LOCATION:The Venue\, Market Street\, Birstall\, WF17 9EN\, United Kingdom
CATEGORIES:Social Dance Nights
ATTACH;FMTTYPE=image/jpeg:https://thevenuebirstall.com/wp-content/uploads/2020/05/IMG_0664-scaled.jpeg
ORGANIZER;CN="Michael Sandham":MAILTO:enquiries@thevenuebirstall.com
END:VEVENT
BEGIN:VEVENT
DTSTART;TZID=Europe/London:20260125T200000
DTEND;TZID=Europe/London:20260609T003000
DTSTAMP:20260424T110226
CREATED:20210809T110513Z
LAST-MODIFIED:20250624T022719Z
UID:10009085-1769371200-1780965000@thevenuebirstall.com
SUMMARY:Sunday Sequence Dance
DESCRIPTION:Join us from 8.00 pm – 10.30 pm every Sunday for our popular social dance evening. 50% popular Sequence Dancing plus Ballroom and Latin American.\nEnjoy The Venue’s unique atmosphere. Entry £7.00 per person.
URL:https://thevenuebirstall.com/event/sunday-sequence-dance-2023-07-23/
LOCATION:The Venue\, Market Street\, Birstall\, WF17 9EN\, United Kingdom
CATEGORIES:Social Dance Nights
ATTACH;FMTTYPE=image/jpeg:https://thevenuebirstall.com/wp-content/uploads/2020/05/IMG_0664-scaled.jpeg
ORGANIZER;CN="Michael Sandham":MAILTO:enquiries@thevenuebirstall.com
END:VEVENT
BEGIN:VEVENT
DTSTART;TZID=Europe/London:20260125T200000
DTEND;TZID=Europe/London:20260608T233000
DTSTAMP:20260424T110226
CREATED:20210809T110513Z
LAST-MODIFIED:20250624T022716Z
UID:10004543-1769371200-1780961400@thevenuebirstall.com
SUMMARY:Sunday Sequence Dance
DESCRIPTION:Join us from 8.00 pm – 10.30 pm every Sunday for our popular social dance evening. 50% popular Sequence Dancing plus Ballroom and Latin American.\nEnjoy The Venue’s unique atmosphere. Entry £7.00 per person.
URL:https://thevenuebirstall.com/event/sunday-sequence-dance-2023-04-30/
LOCATION:The Venue\, Market Street\, Birstall\, WF17 9EN\, United Kingdom
CATEGORIES:Social Dance Nights
ATTACH;FMTTYPE=image/jpeg:https://thevenuebirstall.com/wp-content/uploads/2020/05/IMG_0664-scaled.jpeg
ORGANIZER;CN="Michael Sandham":MAILTO:enquiries@thevenuebirstall.com
END:VEVENT
BEGIN:VEVENT
DTSTART;TZID=Europe/London:20260125T200000
DTEND;TZID=Europe/London:20260609T003000
DTSTAMP:20260424T110226
CREATED:20210809T110513Z
LAST-MODIFIED:20250624T022719Z
UID:10007587-1769371200-1780965000@thevenuebirstall.com
SUMMARY:Sunday Sequence Dance
DESCRIPTION:Join us from 8.00 pm – 10.30 pm every Sunday for our popular social dance evening. 50% popular Sequence Dancing plus Ballroom and Latin American.\nEnjoy The Venue’s unique atmosphere. Entry £7.00 per person.
URL:https://thevenuebirstall.com/event/sunday-sequence-dance-2023-06-25/
LOCATION:The Venue\, Market Street\, Birstall\, WF17 9EN\, United Kingdom
CATEGORIES:Social Dance Nights
ATTACH;FMTTYPE=image/jpeg:https://thevenuebirstall.com/wp-content/uploads/2020/05/IMG_0664-scaled.jpeg
ORGANIZER;CN="Michael Sandham":MAILTO:enquiries@thevenuebirstall.com
END:VEVENT
BEGIN:VEVENT
DTSTART;TZID=Europe/London:20260125T200000
DTEND;TZID=Europe/London:20260608T233000
DTSTAMP:20260424T110226
CREATED:20210809T110513Z
LAST-MODIFIED:20250624T022715Z
UID:10002997-1769371200-1780961400@thevenuebirstall.com
SUMMARY:Sunday Sequence Dance
DESCRIPTION:Join us from 8.00 pm – 10.30 pm every Sunday for our popular social dance evening. 50% popular Sequence Dancing plus Ballroom and Latin American.\nEnjoy The Venue’s unique atmosphere. Entry £7.00 per person.
URL:https://thevenuebirstall.com/event/sunday-sequence-dance-2023-04-02/
LOCATION:The Venue\, Market Street\, Birstall\, WF17 9EN\, United Kingdom
CATEGORIES:Social Dance Nights
ATTACH;FMTTYPE=image/jpeg:https://thevenuebirstall.com/wp-content/uploads/2020/05/IMG_0664-scaled.jpeg
ORGANIZER;CN="Michael Sandham":MAILTO:enquiries@thevenuebirstall.com
END:VEVENT
BEGIN:VEVENT
DTSTART;TZID=Europe/London:20260125T200000
DTEND;TZID=Europe/London:20260608T233000
DTSTAMP:20260424T110226
CREATED:20210809T110513Z
LAST-MODIFIED:20250624T022717Z
UID:10006073-1769371200-1780961400@thevenuebirstall.com
SUMMARY:Sunday Sequence Dance
DESCRIPTION:Join us from 8.00 pm – 10.30 pm every Sunday for our popular social dance evening. 50% popular Sequence Dancing plus Ballroom and Latin American.\nEnjoy The Venue’s unique atmosphere. Entry £7.00 per person.
URL:https://thevenuebirstall.com/event/sunday-sequence-dance-2023-05-28/
LOCATION:The Venue\, Market Street\, Birstall\, WF17 9EN\, United Kingdom
CATEGORIES:Social Dance Nights
ATTACH;FMTTYPE=image/jpeg:https://thevenuebirstall.com/wp-content/uploads/2020/05/IMG_0664-scaled.jpeg
ORGANIZER;CN="Michael Sandham":MAILTO:enquiries@thevenuebirstall.com
END:VEVENT
BEGIN:VEVENT
DTSTART;TZID=Europe/London:20260125T200000
DTEND;TZID=Europe/London:20260608T233000
DTSTAMP:20260424T110226
CREATED:20210809T110513Z
LAST-MODIFIED:20250624T022717Z
UID:10006453-1769371200-1780961400@thevenuebirstall.com
SUMMARY:Sunday Sequence Dance
DESCRIPTION:Join us from 8.00 pm – 10.30 pm every Sunday for our popular social dance evening. 50% popular Sequence Dancing plus Ballroom and Latin American.\nEnjoy The Venue’s unique atmosphere. Entry £7.00 per person.
URL:https://thevenuebirstall.com/event/sunday-sequence-dance-2023-06-04/
LOCATION:The Venue\, Market Street\, Birstall\, WF17 9EN\, United Kingdom
CATEGORIES:Social Dance Nights
ATTACH;FMTTYPE=image/jpeg:https://thevenuebirstall.com/wp-content/uploads/2020/05/IMG_0664-scaled.jpeg
ORGANIZER;CN="Michael Sandham":MAILTO:enquiries@thevenuebirstall.com
END:VEVENT
BEGIN:VEVENT
DTSTART;TZID=Europe/London:20260125T200000
DTEND;TZID=Europe/London:20260609T003000
DTSTAMP:20260424T110226
CREATED:20210809T110513Z
LAST-MODIFIED:20250624T022719Z
UID:10009457-1769371200-1780965000@thevenuebirstall.com
SUMMARY:Sunday Sequence Dance
DESCRIPTION:Join us from 8.00 pm – 10.30 pm every Sunday for our popular social dance evening. 50% popular Sequence Dancing plus Ballroom and Latin American.\nEnjoy The Venue’s unique atmosphere. Entry £7.00 per person.
URL:https://thevenuebirstall.com/event/sunday-sequence-dance-2023-07-30/
LOCATION:The Venue\, Market Street\, Birstall\, WF17 9EN\, United Kingdom
CATEGORIES:Social Dance Nights
ATTACH;FMTTYPE=image/jpeg:https://thevenuebirstall.com/wp-content/uploads/2020/05/IMG_0664-scaled.jpeg
ORGANIZER;CN="Michael Sandham":MAILTO:enquiries@thevenuebirstall.com
END:VEVENT
BEGIN:VEVENT
DTSTART;TZID=Europe/London:20260125T200000
DTEND;TZID=Europe/London:20260608T233000
DTSTAMP:20260424T110226
CREATED:20210809T110513Z
LAST-MODIFIED:20250624T022716Z
UID:10004927-1769371200-1780961400@thevenuebirstall.com
SUMMARY:Sunday Sequence Dance
DESCRIPTION:Join us from 8.00 pm – 10.30 pm every Sunday for our popular social dance evening. 50% popular Sequence Dancing plus Ballroom and Latin American.\nEnjoy The Venue’s unique atmosphere. Entry £7.00 per person.
URL:https://thevenuebirstall.com/event/sunday-sequence-dance-2023-05-07/
LOCATION:The Venue\, Market Street\, Birstall\, WF17 9EN\, United Kingdom
CATEGORIES:Social Dance Nights
ATTACH;FMTTYPE=image/jpeg:https://thevenuebirstall.com/wp-content/uploads/2020/05/IMG_0664-scaled.jpeg
ORGANIZER;CN="Michael Sandham":MAILTO:enquiries@thevenuebirstall.com
END:VEVENT
BEGIN:VEVENT
DTSTART;TZID=Europe/London:20260125T200000
DTEND;TZID=Europe/London:20260609T003000
DTSTAMP:20260424T110226
CREATED:20210809T110513Z
LAST-MODIFIED:20250624T022719Z
UID:10007963-1769371200-1780965000@thevenuebirstall.com
SUMMARY:Sunday Sequence Dance
DESCRIPTION:Join us from 8.00 pm – 10.30 pm every Sunday for our popular social dance evening. 50% popular Sequence Dancing plus Ballroom and Latin American.\nEnjoy The Venue’s unique atmosphere. Entry £7.00 per person.
URL:https://thevenuebirstall.com/event/sunday-sequence-dance-2023-07-02/
LOCATION:The Venue\, Market Street\, Birstall\, WF17 9EN\, United Kingdom
CATEGORIES:Social Dance Nights
ATTACH;FMTTYPE=image/jpeg:https://thevenuebirstall.com/wp-content/uploads/2020/05/IMG_0664-scaled.jpeg
ORGANIZER;CN="Michael Sandham":MAILTO:enquiries@thevenuebirstall.com
END:VEVENT
BEGIN:VEVENT
DTSTART;TZID=Europe/London:20260125T200000
DTEND;TZID=Europe/London:20260608T233000
DTSTAMP:20260424T110226
CREATED:20210809T110513Z
LAST-MODIFIED:20250624T022716Z
UID:10003385-1769371200-1780961400@thevenuebirstall.com
SUMMARY:Sunday Sequence Dance
DESCRIPTION:Join us from 8.00 pm – 10.30 pm every Sunday for our popular social dance evening. 50% popular Sequence Dancing plus Ballroom and Latin American.\nEnjoy The Venue’s unique atmosphere. Entry £7.00 per person.
URL:https://thevenuebirstall.com/event/sunday-sequence-dance-2023-04-09/
LOCATION:The Venue\, Market Street\, Birstall\, WF17 9EN\, United Kingdom
CATEGORIES:Social Dance Nights
ATTACH;FMTTYPE=image/jpeg:https://thevenuebirstall.com/wp-content/uploads/2020/05/IMG_0664-scaled.jpeg
ORGANIZER;CN="Michael Sandham":MAILTO:enquiries@thevenuebirstall.com
END:VEVENT
BEGIN:VEVENT
DTSTART;TZID=Europe/London:20260125T200000
DTEND;TZID=Europe/London:20260608T233000
DTSTAMP:20260424T110226
CREATED:20210809T110513Z
LAST-MODIFIED:20250624T022716Z
UID:10003772-1769371200-1780961400@thevenuebirstall.com
SUMMARY:Sunday Sequence Dance
DESCRIPTION:Join us from 8.00 pm – 10.30 pm every Sunday for our popular social dance evening. 50% popular Sequence Dancing plus Ballroom and Latin American.\nEnjoy The Venue’s unique atmosphere. Entry £7.00 per person.
URL:https://thevenuebirstall.com/event/sunday-sequence-dance-2023-04-16/
LOCATION:The Venue\, Market Street\, Birstall\, WF17 9EN\, United Kingdom
CATEGORIES:Social Dance Nights
ATTACH;FMTTYPE=image/jpeg:https://thevenuebirstall.com/wp-content/uploads/2020/05/IMG_0664-scaled.jpeg
ORGANIZER;CN="Michael Sandham":MAILTO:enquiries@thevenuebirstall.com
END:VEVENT
BEGIN:VEVENT
DTSTART;TZID=Europe/London:20260125T200000
DTEND;TZID=Europe/London:20260608T233000
DTSTAMP:20260424T110226
CREATED:20210809T110513Z
LAST-MODIFIED:20250624T022718Z
UID:10006832-1769371200-1780961400@thevenuebirstall.com
SUMMARY:Sunday Sequence Dance
DESCRIPTION:Join us from 8.00 pm – 10.30 pm every Sunday for our popular social dance evening. 50% popular Sequence Dancing plus Ballroom and Latin American.\nEnjoy The Venue’s unique atmosphere. Entry £7.00 per person.
URL:https://thevenuebirstall.com/event/sunday-sequence-dance-2023-06-11/
LOCATION:The Venue\, Market Street\, Birstall\, WF17 9EN\, United Kingdom
CATEGORIES:Social Dance Nights
ATTACH;FMTTYPE=image/jpeg:https://thevenuebirstall.com/wp-content/uploads/2020/05/IMG_0664-scaled.jpeg
ORGANIZER;CN="Michael Sandham":MAILTO:enquiries@thevenuebirstall.com
END:VEVENT
BEGIN:VEVENT
DTSTART;TZID=Europe/London:20260125T200000
DTEND;TZID=Europe/London:20260608T233000
DTSTAMP:20260424T110226
CREATED:20210809T110513Z
LAST-MODIFIED:20250624T022717Z
UID:10005310-1769371200-1780961400@thevenuebirstall.com
SUMMARY:Sunday Sequence Dance
DESCRIPTION:Join us from 8.00 pm – 10.30 pm every Sunday for our popular social dance evening. 50% popular Sequence Dancing plus Ballroom and Latin American.\nEnjoy The Venue’s unique atmosphere. Entry £7.00 per person.
URL:https://thevenuebirstall.com/event/sunday-sequence-dance-2023-05-14/
LOCATION:The Venue\, Market Street\, Birstall\, WF17 9EN\, United Kingdom
CATEGORIES:Social Dance Nights
ATTACH;FMTTYPE=image/jpeg:https://thevenuebirstall.com/wp-content/uploads/2020/05/IMG_0664-scaled.jpeg
ORGANIZER;CN="Michael Sandham":MAILTO:enquiries@thevenuebirstall.com
END:VEVENT
BEGIN:VEVENT
DTSTART;TZID=Europe/London:20260125T200000
DTEND;TZID=Europe/London:20260609T003000
DTSTAMP:20260424T110226
CREATED:20210809T110513Z
LAST-MODIFIED:20250624T022719Z
UID:10008338-1769371200-1780965000@thevenuebirstall.com
SUMMARY:Sunday Sequence Dance
DESCRIPTION:Join us from 8.00 pm – 10.30 pm every Sunday for our popular social dance evening. 50% popular Sequence Dancing plus Ballroom and Latin American.\nEnjoy The Venue’s unique atmosphere. Entry £7.00 per person.
URL:https://thevenuebirstall.com/event/sunday-sequence-dance-2023-07-09/
LOCATION:The Venue\, Market Street\, Birstall\, WF17 9EN\, United Kingdom
CATEGORIES:Social Dance Nights
ATTACH;FMTTYPE=image/jpeg:https://thevenuebirstall.com/wp-content/uploads/2020/05/IMG_0664-scaled.jpeg
ORGANIZER;CN="Michael Sandham":MAILTO:enquiries@thevenuebirstall.com
END:VEVENT
BEGIN:VEVENT
DTSTART;TZID=Europe/London:20260125T200000
DTEND;TZID=Europe/London:20260608T233000
DTSTAMP:20260424T110226
CREATED:20210809T110513Z
LAST-MODIFIED:20250624T022716Z
UID:10004158-1769371200-1780961400@thevenuebirstall.com
SUMMARY:Sunday Sequence Dance
DESCRIPTION:Join us from 8.00 pm – 10.30 pm every Sunday for our popular social dance evening. 50% popular Sequence Dancing plus Ballroom and Latin American.\nEnjoy The Venue’s unique atmosphere. Entry £7.00 per person.
URL:https://thevenuebirstall.com/event/sunday-sequence-dance-2023-04-23/
LOCATION:The Venue\, Market Street\, Birstall\, WF17 9EN\, United Kingdom
CATEGORIES:Social Dance Nights
ATTACH;FMTTYPE=image/jpeg:https://thevenuebirstall.com/wp-content/uploads/2020/05/IMG_0664-scaled.jpeg
ORGANIZER;CN="Michael Sandham":MAILTO:enquiries@thevenuebirstall.com
END:VEVENT
BEGIN:VEVENT
DTSTART;TZID=Europe/London:20260125T200000
DTEND;TZID=Europe/London:20260609T003000
DTSTAMP:20260424T110226
CREATED:20210809T110513Z
LAST-MODIFIED:20250624T022718Z
UID:10007210-1769371200-1780965000@thevenuebirstall.com
SUMMARY:Sunday Sequence Dance
DESCRIPTION:Join us from 8.00 pm – 10.30 pm every Sunday for our popular social dance evening. 50% popular Sequence Dancing plus Ballroom and Latin American.\nEnjoy The Venue’s unique atmosphere. Entry £7.00 per person.
URL:https://thevenuebirstall.com/event/sunday-sequence-dance-2023-06-18/
LOCATION:The Venue\, Market Street\, Birstall\, WF17 9EN\, United Kingdom
CATEGORIES:Social Dance Nights
ATTACH;FMTTYPE=image/jpeg:https://thevenuebirstall.com/wp-content/uploads/2020/05/IMG_0664-scaled.jpeg
ORGANIZER;CN="Michael Sandham":MAILTO:enquiries@thevenuebirstall.com
END:VEVENT
BEGIN:VEVENT
DTSTART;TZID=Europe/London:20260125T200000
DTEND;TZID=Europe/London:20260608T233000
DTSTAMP:20260424T110226
CREATED:20210809T110513Z
LAST-MODIFIED:20250624T022715Z
UID:10002608-1769371200-1780961400@thevenuebirstall.com
SUMMARY:Sunday Sequence Dance
DESCRIPTION:Join us from 8.00 pm – 10.30 pm every Sunday for our popular social dance evening. 50% popular Sequence Dancing plus Ballroom and Latin American.\nEnjoy The Venue’s unique atmosphere. Entry £7.00 per person.
URL:https://thevenuebirstall.com/event/sunday-sequence-dance-2023-03-26/
LOCATION:The Venue\, Market Street\, Birstall\, WF17 9EN\, United Kingdom
CATEGORIES:Social Dance Nights
ATTACH;FMTTYPE=image/jpeg:https://thevenuebirstall.com/wp-content/uploads/2020/05/IMG_0664-scaled.jpeg
ORGANIZER;CN="Michael Sandham":MAILTO:enquiries@thevenuebirstall.com
END:VEVENT
BEGIN:VEVENT
DTSTART;TZID=Europe/London:20260125T200000
DTEND;TZID=Europe/London:20260608T233000
DTSTAMP:20260424T110226
CREATED:20210809T110513Z
LAST-MODIFIED:20250624T022717Z
UID:10005692-1769371200-1780961400@thevenuebirstall.com
SUMMARY:Sunday Sequence Dance
DESCRIPTION:Join us from 8.00 pm – 10.30 pm every Sunday for our popular social dance evening. 50% popular Sequence Dancing plus Ballroom and Latin American.\nEnjoy The Venue’s unique atmosphere. Entry £7.00 per person.
URL:https://thevenuebirstall.com/event/sunday-sequence-dance-2023-05-21/
LOCATION:The Venue\, Market Street\, Birstall\, WF17 9EN\, United Kingdom
CATEGORIES:Social Dance Nights
ATTACH;FMTTYPE=image/jpeg:https://thevenuebirstall.com/wp-content/uploads/2020/05/IMG_0664-scaled.jpeg
ORGANIZER;CN="Michael Sandham":MAILTO:enquiries@thevenuebirstall.com
END:VEVENT
BEGIN:VEVENT
DTSTART;TZID=Europe/London:20260125T200000
DTEND;TZID=Europe/London:20260609T003000
DTSTAMP:20260424T110226
CREATED:20210809T110513Z
LAST-MODIFIED:20250624T022719Z
UID:10008712-1769371200-1780965000@thevenuebirstall.com
SUMMARY:Sunday Sequence Dance
DESCRIPTION:Join us from 8.00 pm – 10.30 pm every Sunday for our popular social dance evening. 50% popular Sequence Dancing plus Ballroom and Latin American.\nEnjoy The Venue’s unique atmosphere. Entry £7.00 per person.
URL:https://thevenuebirstall.com/event/sunday-sequence-dance-2023-07-16/
LOCATION:The Venue\, Market Street\, Birstall\, WF17 9EN\, United Kingdom
CATEGORIES:Social Dance Nights
ATTACH;FMTTYPE=image/jpeg:https://thevenuebirstall.com/wp-content/uploads/2020/05/IMG_0664-scaled.jpeg
ORGANIZER;CN="Michael Sandham":MAILTO:enquiries@thevenuebirstall.com
END:VEVENT
BEGIN:VEVENT
DTSTART;TZID=Europe/London:20260201T200000
DTEND;TZID=Europe/London:20260615T233000
DTSTAMP:20260424T110226
CREATED:20210809T110513Z
LAST-MODIFIED:20250624T022716Z
UID:10004159-1769976000-1781566200@thevenuebirstall.com
SUMMARY:Sunday Sequence Dance
DESCRIPTION:Join us from 8.00 pm – 10.30 pm every Sunday for our popular social dance evening. 50% popular Sequence Dancing plus Ballroom and Latin American.\nEnjoy The Venue’s unique atmosphere. Entry £7.00 per person.
URL:https://thevenuebirstall.com/event/sunday-sequence-dance-2023-04-23/
LOCATION:The Venue\, Market Street\, Birstall\, WF17 9EN\, United Kingdom
CATEGORIES:Social Dance Nights
ATTACH;FMTTYPE=image/jpeg:https://thevenuebirstall.com/wp-content/uploads/2020/05/IMG_0664-scaled.jpeg
ORGANIZER;CN="Michael Sandham":MAILTO:enquiries@thevenuebirstall.com
END:VEVENT
BEGIN:VEVENT
DTSTART;TZID=Europe/London:20260201T200000
DTEND;TZID=Europe/London:20260616T003000
DTSTAMP:20260424T110226
CREATED:20210809T110513Z
LAST-MODIFIED:20250624T022718Z
UID:10007211-1769976000-1781569800@thevenuebirstall.com
SUMMARY:Sunday Sequence Dance
DESCRIPTION:Join us from 8.00 pm – 10.30 pm every Sunday for our popular social dance evening. 50% popular Sequence Dancing plus Ballroom and Latin American.\nEnjoy The Venue’s unique atmosphere. Entry £7.00 per person.
URL:https://thevenuebirstall.com/event/sunday-sequence-dance-2023-06-18/
LOCATION:The Venue\, Market Street\, Birstall\, WF17 9EN\, United Kingdom
CATEGORIES:Social Dance Nights
ATTACH;FMTTYPE=image/jpeg:https://thevenuebirstall.com/wp-content/uploads/2020/05/IMG_0664-scaled.jpeg
ORGANIZER;CN="Michael Sandham":MAILTO:enquiries@thevenuebirstall.com
END:VEVENT
BEGIN:VEVENT
DTSTART;TZID=Europe/London:20260201T200000
DTEND;TZID=Europe/London:20260615T233000
DTSTAMP:20260424T110226
CREATED:20210809T110513Z
LAST-MODIFIED:20250624T022715Z
UID:10002609-1769976000-1781566200@thevenuebirstall.com
SUMMARY:Sunday Sequence Dance
DESCRIPTION:Join us from 8.00 pm – 10.30 pm every Sunday for our popular social dance evening. 50% popular Sequence Dancing plus Ballroom and Latin American.\nEnjoy The Venue’s unique atmosphere. Entry £7.00 per person.
URL:https://thevenuebirstall.com/event/sunday-sequence-dance-2023-03-26/
LOCATION:The Venue\, Market Street\, Birstall\, WF17 9EN\, United Kingdom
CATEGORIES:Social Dance Nights
ATTACH;FMTTYPE=image/jpeg:https://thevenuebirstall.com/wp-content/uploads/2020/05/IMG_0664-scaled.jpeg
ORGANIZER;CN="Michael Sandham":MAILTO:enquiries@thevenuebirstall.com
END:VEVENT
BEGIN:VEVENT
DTSTART;TZID=Europe/London:20260201T200000
DTEND;TZID=Europe/London:20260615T233000
DTSTAMP:20260424T110226
CREATED:20210809T110513Z
LAST-MODIFIED:20250624T022717Z
UID:10005693-1769976000-1781566200@thevenuebirstall.com
SUMMARY:Sunday Sequence Dance
DESCRIPTION:Join us from 8.00 pm – 10.30 pm every Sunday for our popular social dance evening. 50% popular Sequence Dancing plus Ballroom and Latin American.\nEnjoy The Venue’s unique atmosphere. Entry £7.00 per person.
URL:https://thevenuebirstall.com/event/sunday-sequence-dance-2023-05-21/
LOCATION:The Venue\, Market Street\, Birstall\, WF17 9EN\, United Kingdom
CATEGORIES:Social Dance Nights
ATTACH;FMTTYPE=image/jpeg:https://thevenuebirstall.com/wp-content/uploads/2020/05/IMG_0664-scaled.jpeg
ORGANIZER;CN="Michael Sandham":MAILTO:enquiries@thevenuebirstall.com
END:VEVENT
BEGIN:VEVENT
DTSTART;TZID=Europe/London:20260201T200000
DTEND;TZID=Europe/London:20260616T003000
DTSTAMP:20260424T110226
CREATED:20210809T110513Z
LAST-MODIFIED:20250624T022719Z
UID:10008713-1769976000-1781569800@thevenuebirstall.com
SUMMARY:Sunday Sequence Dance
DESCRIPTION:Join us from 8.00 pm – 10.30 pm every Sunday for our popular social dance evening. 50% popular Sequence Dancing plus Ballroom and Latin American.\nEnjoy The Venue’s unique atmosphere. Entry £7.00 per person.
URL:https://thevenuebirstall.com/event/sunday-sequence-dance-2023-07-16/
LOCATION:The Venue\, Market Street\, Birstall\, WF17 9EN\, United Kingdom
CATEGORIES:Social Dance Nights
ATTACH;FMTTYPE=image/jpeg:https://thevenuebirstall.com/wp-content/uploads/2020/05/IMG_0664-scaled.jpeg
ORGANIZER;CN="Michael Sandham":MAILTO:enquiries@thevenuebirstall.com
END:VEVENT
BEGIN:VEVENT
DTSTART;TZID=Europe/London:20260201T200000
DTEND;TZID=Europe/London:20260616T003000
DTSTAMP:20260424T110226
CREATED:20210809T110513Z
LAST-MODIFIED:20250624T022719Z
UID:10009086-1769976000-1781569800@thevenuebirstall.com
SUMMARY:Sunday Sequence Dance
DESCRIPTION:Join us from 8.00 pm – 10.30 pm every Sunday for our popular social dance evening. 50% popular Sequence Dancing plus Ballroom and Latin American.\nEnjoy The Venue’s unique atmosphere. Entry £7.00 per person.
URL:https://thevenuebirstall.com/event/sunday-sequence-dance-2023-07-23/
LOCATION:The Venue\, Market Street\, Birstall\, WF17 9EN\, United Kingdom
CATEGORIES:Social Dance Nights
ATTACH;FMTTYPE=image/jpeg:https://thevenuebirstall.com/wp-content/uploads/2020/05/IMG_0664-scaled.jpeg
ORGANIZER;CN="Michael Sandham":MAILTO:enquiries@thevenuebirstall.com
END:VEVENT
BEGIN:VEVENT
DTSTART;TZID=Europe/London:20260201T200000
DTEND;TZID=Europe/London:20260615T233000
DTSTAMP:20260424T110226
CREATED:20210809T110513Z
LAST-MODIFIED:20250624T022716Z
UID:10004544-1769976000-1781566200@thevenuebirstall.com
SUMMARY:Sunday Sequence Dance
DESCRIPTION:Join us from 8.00 pm – 10.30 pm every Sunday for our popular social dance evening. 50% popular Sequence Dancing plus Ballroom and Latin American.\nEnjoy The Venue’s unique atmosphere. Entry £7.00 per person.
URL:https://thevenuebirstall.com/event/sunday-sequence-dance-2023-04-30/
LOCATION:The Venue\, Market Street\, Birstall\, WF17 9EN\, United Kingdom
CATEGORIES:Social Dance Nights
ATTACH;FMTTYPE=image/jpeg:https://thevenuebirstall.com/wp-content/uploads/2020/05/IMG_0664-scaled.jpeg
ORGANIZER;CN="Michael Sandham":MAILTO:enquiries@thevenuebirstall.com
END:VEVENT
END:VCALENDAR