BEGIN:VCALENDAR
VERSION:2.0
PRODID:-//The Venue Birstall - ECPv6.15.20//NONSGML v1.0//EN
CALSCALE:GREGORIAN
METHOD:PUBLISH
X-WR-CALNAME:The Venue Birstall
X-ORIGINAL-URL:https://thevenuebirstall.com
X-WR-CALDESC:Events for The Venue Birstall
REFRESH-INTERVAL;VALUE=DURATION:PT1H
X-Robots-Tag:noindex
X-PUBLISHED-TTL:PT1H
BEGIN:VTIMEZONE
TZID:Europe/London
BEGIN:DAYLIGHT
TZOFFSETFROM:+0000
TZOFFSETTO:+0100
TZNAME:BST
DTSTART:20240331T010000
END:DAYLIGHT
BEGIN:STANDARD
TZOFFSETFROM:+0100
TZOFFSETTO:+0000
TZNAME:GMT
DTSTART:20241027T010000
END:STANDARD
BEGIN:DAYLIGHT
TZOFFSETFROM:+0000
TZOFFSETTO:+0100
TZNAME:BST
DTSTART:20250330T010000
END:DAYLIGHT
BEGIN:STANDARD
TZOFFSETFROM:+0100
TZOFFSETTO:+0000
TZNAME:GMT
DTSTART:20251026T010000
END:STANDARD
BEGIN:DAYLIGHT
TZOFFSETFROM:+0000
TZOFFSETTO:+0100
TZNAME:BST
DTSTART:20260329T010000
END:DAYLIGHT
BEGIN:STANDARD
TZOFFSETFROM:+0100
TZOFFSETTO:+0000
TZNAME:GMT
DTSTART:20261025T010000
END:STANDARD
BEGIN:DAYLIGHT
TZOFFSETFROM:+0000
TZOFFSETTO:+0100
TZNAME:BST
DTSTART:20270328T010000
END:DAYLIGHT
BEGIN:STANDARD
TZOFFSETFROM:+0100
TZOFFSETTO:+0000
TZNAME:GMT
DTSTART:20271031T010000
END:STANDARD
END:VTIMEZONE
BEGIN:VEVENT
DTSTART;TZID=Europe/London:20251214T200000
DTEND;TZID=Europe/London:20260428T003000
DTSTAMP:20260423T164008
CREATED:20210809T110513Z
LAST-MODIFIED:20250624T022718Z
UID:10007204-1765742400-1777336200@thevenuebirstall.com
SUMMARY:Sunday Sequence Dance
DESCRIPTION:Join us from 8.00 pm – 10.30 pm every Sunday for our popular social dance evening. 50% popular Sequence Dancing plus Ballroom and Latin American.\nEnjoy The Venue’s unique atmosphere. Entry £7.00 per person.
URL:https://thevenuebirstall.com/event/sunday-sequence-dance-2023-06-18/
LOCATION:The Venue\, Market Street\, Birstall\, WF17 9EN\, United Kingdom
CATEGORIES:Social Dance Nights
ATTACH;FMTTYPE=image/jpeg:https://thevenuebirstall.com/wp-content/uploads/2020/05/IMG_0664-scaled.jpeg
ORGANIZER;CN="Michael Sandham":MAILTO:enquiries@thevenuebirstall.com
END:VEVENT
BEGIN:VEVENT
DTSTART;TZID=Europe/London:20251214T200000
DTEND;TZID=Europe/London:20260427T233000
DTSTAMP:20260423T164008
CREATED:20210809T110513Z
LAST-MODIFIED:20250624T022715Z
UID:10002602-1765742400-1777332600@thevenuebirstall.com
SUMMARY:Sunday Sequence Dance
DESCRIPTION:Join us from 8.00 pm – 10.30 pm every Sunday for our popular social dance evening. 50% popular Sequence Dancing plus Ballroom and Latin American.\nEnjoy The Venue’s unique atmosphere. Entry £7.00 per person.
URL:https://thevenuebirstall.com/event/sunday-sequence-dance-2023-03-26/
LOCATION:The Venue\, Market Street\, Birstall\, WF17 9EN\, United Kingdom
CATEGORIES:Social Dance Nights
ATTACH;FMTTYPE=image/jpeg:https://thevenuebirstall.com/wp-content/uploads/2020/05/IMG_0664-scaled.jpeg
ORGANIZER;CN="Michael Sandham":MAILTO:enquiries@thevenuebirstall.com
END:VEVENT
BEGIN:VEVENT
DTSTART;TZID=Europe/London:20251214T200000
DTEND;TZID=Europe/London:20260427T233000
DTSTAMP:20260423T164008
CREATED:20210809T110513Z
LAST-MODIFIED:20250624T022717Z
UID:10005686-1765742400-1777332600@thevenuebirstall.com
SUMMARY:Sunday Sequence Dance
DESCRIPTION:Join us from 8.00 pm – 10.30 pm every Sunday for our popular social dance evening. 50% popular Sequence Dancing plus Ballroom and Latin American.\nEnjoy The Venue’s unique atmosphere. Entry £7.00 per person.
URL:https://thevenuebirstall.com/event/sunday-sequence-dance-2023-05-21/
LOCATION:The Venue\, Market Street\, Birstall\, WF17 9EN\, United Kingdom
CATEGORIES:Social Dance Nights
ATTACH;FMTTYPE=image/jpeg:https://thevenuebirstall.com/wp-content/uploads/2020/05/IMG_0664-scaled.jpeg
ORGANIZER;CN="Michael Sandham":MAILTO:enquiries@thevenuebirstall.com
END:VEVENT
BEGIN:VEVENT
DTSTART;TZID=Europe/London:20251214T200000
DTEND;TZID=Europe/London:20260428T003000
DTSTAMP:20260423T164008
CREATED:20210809T110513Z
LAST-MODIFIED:20250624T022719Z
UID:10008706-1765742400-1777336200@thevenuebirstall.com
SUMMARY:Sunday Sequence Dance
DESCRIPTION:Join us from 8.00 pm – 10.30 pm every Sunday for our popular social dance evening. 50% popular Sequence Dancing plus Ballroom and Latin American.\nEnjoy The Venue’s unique atmosphere. Entry £7.00 per person.
URL:https://thevenuebirstall.com/event/sunday-sequence-dance-2023-07-16/
LOCATION:The Venue\, Market Street\, Birstall\, WF17 9EN\, United Kingdom
CATEGORIES:Social Dance Nights
ATTACH;FMTTYPE=image/jpeg:https://thevenuebirstall.com/wp-content/uploads/2020/05/IMG_0664-scaled.jpeg
ORGANIZER;CN="Michael Sandham":MAILTO:enquiries@thevenuebirstall.com
END:VEVENT
BEGIN:VEVENT
DTSTART;TZID=Europe/London:20251214T200000
DTEND;TZID=Europe/London:20260427T233000
DTSTAMP:20260423T164008
CREATED:20210809T110513Z
LAST-MODIFIED:20250624T022716Z
UID:10004152-1765742400-1777332600@thevenuebirstall.com
SUMMARY:Sunday Sequence Dance
DESCRIPTION:Join us from 8.00 pm – 10.30 pm every Sunday for our popular social dance evening. 50% popular Sequence Dancing plus Ballroom and Latin American.\nEnjoy The Venue’s unique atmosphere. Entry £7.00 per person.
URL:https://thevenuebirstall.com/event/sunday-sequence-dance-2023-04-23/
LOCATION:The Venue\, Market Street\, Birstall\, WF17 9EN\, United Kingdom
CATEGORIES:Social Dance Nights
ATTACH;FMTTYPE=image/jpeg:https://thevenuebirstall.com/wp-content/uploads/2020/05/IMG_0664-scaled.jpeg
ORGANIZER;CN="Michael Sandham":MAILTO:enquiries@thevenuebirstall.com
END:VEVENT
BEGIN:VEVENT
DTSTART;TZID=Europe/London:20251214T200000
DTEND;TZID=Europe/London:20260427T233000
DTSTAMP:20260423T164008
CREATED:20210809T110513Z
LAST-MODIFIED:20250624T022716Z
UID:10004537-1765742400-1777332600@thevenuebirstall.com
SUMMARY:Sunday Sequence Dance
DESCRIPTION:Join us from 8.00 pm – 10.30 pm every Sunday for our popular social dance evening. 50% popular Sequence Dancing plus Ballroom and Latin American.\nEnjoy The Venue’s unique atmosphere. Entry £7.00 per person.
URL:https://thevenuebirstall.com/event/sunday-sequence-dance-2023-04-30/
LOCATION:The Venue\, Market Street\, Birstall\, WF17 9EN\, United Kingdom
CATEGORIES:Social Dance Nights
ATTACH;FMTTYPE=image/jpeg:https://thevenuebirstall.com/wp-content/uploads/2020/05/IMG_0664-scaled.jpeg
ORGANIZER;CN="Michael Sandham":MAILTO:enquiries@thevenuebirstall.com
END:VEVENT
BEGIN:VEVENT
DTSTART;TZID=Europe/London:20251214T200000
DTEND;TZID=Europe/London:20260428T003000
DTSTAMP:20260423T164008
CREATED:20210809T110513Z
LAST-MODIFIED:20250624T022719Z
UID:10007581-1765742400-1777336200@thevenuebirstall.com
SUMMARY:Sunday Sequence Dance
DESCRIPTION:Join us from 8.00 pm – 10.30 pm every Sunday for our popular social dance evening. 50% popular Sequence Dancing plus Ballroom and Latin American.\nEnjoy The Venue’s unique atmosphere. Entry £7.00 per person.
URL:https://thevenuebirstall.com/event/sunday-sequence-dance-2023-06-25/
LOCATION:The Venue\, Market Street\, Birstall\, WF17 9EN\, United Kingdom
CATEGORIES:Social Dance Nights
ATTACH;FMTTYPE=image/jpeg:https://thevenuebirstall.com/wp-content/uploads/2020/05/IMG_0664-scaled.jpeg
ORGANIZER;CN="Michael Sandham":MAILTO:enquiries@thevenuebirstall.com
END:VEVENT
BEGIN:VEVENT
DTSTART;TZID=Europe/London:20251214T200000
DTEND;TZID=Europe/London:20260427T233000
DTSTAMP:20260423T164008
CREATED:20210809T110513Z
LAST-MODIFIED:20250624T022715Z
UID:10002991-1765742400-1777332600@thevenuebirstall.com
SUMMARY:Sunday Sequence Dance
DESCRIPTION:Join us from 8.00 pm – 10.30 pm every Sunday for our popular social dance evening. 50% popular Sequence Dancing plus Ballroom and Latin American.\nEnjoy The Venue’s unique atmosphere. Entry £7.00 per person.
URL:https://thevenuebirstall.com/event/sunday-sequence-dance-2023-04-02/
LOCATION:The Venue\, Market Street\, Birstall\, WF17 9EN\, United Kingdom
CATEGORIES:Social Dance Nights
ATTACH;FMTTYPE=image/jpeg:https://thevenuebirstall.com/wp-content/uploads/2020/05/IMG_0664-scaled.jpeg
ORGANIZER;CN="Michael Sandham":MAILTO:enquiries@thevenuebirstall.com
END:VEVENT
BEGIN:VEVENT
DTSTART;TZID=Europe/London:20251214T200000
DTEND;TZID=Europe/London:20260427T233000
DTSTAMP:20260423T164008
CREATED:20210809T110513Z
LAST-MODIFIED:20250624T022717Z
UID:10006067-1765742400-1777332600@thevenuebirstall.com
SUMMARY:Sunday Sequence Dance
DESCRIPTION:Join us from 8.00 pm – 10.30 pm every Sunday for our popular social dance evening. 50% popular Sequence Dancing plus Ballroom and Latin American.\nEnjoy The Venue’s unique atmosphere. Entry £7.00 per person.
URL:https://thevenuebirstall.com/event/sunday-sequence-dance-2023-05-28/
LOCATION:The Venue\, Market Street\, Birstall\, WF17 9EN\, United Kingdom
CATEGORIES:Social Dance Nights
ATTACH;FMTTYPE=image/jpeg:https://thevenuebirstall.com/wp-content/uploads/2020/05/IMG_0664-scaled.jpeg
ORGANIZER;CN="Michael Sandham":MAILTO:enquiries@thevenuebirstall.com
END:VEVENT
BEGIN:VEVENT
DTSTART;TZID=Europe/London:20251214T200000
DTEND;TZID=Europe/London:20260428T003000
DTSTAMP:20260423T164008
CREATED:20210809T110513Z
LAST-MODIFIED:20250624T022719Z
UID:10009079-1765742400-1777336200@thevenuebirstall.com
SUMMARY:Sunday Sequence Dance
DESCRIPTION:Join us from 8.00 pm – 10.30 pm every Sunday for our popular social dance evening. 50% popular Sequence Dancing plus Ballroom and Latin American.\nEnjoy The Venue’s unique atmosphere. Entry £7.00 per person.
URL:https://thevenuebirstall.com/event/sunday-sequence-dance-2023-07-23/
LOCATION:The Venue\, Market Street\, Birstall\, WF17 9EN\, United Kingdom
CATEGORIES:Social Dance Nights
ATTACH;FMTTYPE=image/jpeg:https://thevenuebirstall.com/wp-content/uploads/2020/05/IMG_0664-scaled.jpeg
ORGANIZER;CN="Michael Sandham":MAILTO:enquiries@thevenuebirstall.com
END:VEVENT
BEGIN:VEVENT
DTSTART;TZID=Europe/London:20251214T200000
DTEND;TZID=Europe/London:20260427T233000
DTSTAMP:20260423T164008
CREATED:20210809T110513Z
LAST-MODIFIED:20250624T022716Z
UID:10004921-1765742400-1777332600@thevenuebirstall.com
SUMMARY:Sunday Sequence Dance
DESCRIPTION:Join us from 8.00 pm – 10.30 pm every Sunday for our popular social dance evening. 50% popular Sequence Dancing plus Ballroom and Latin American.\nEnjoy The Venue’s unique atmosphere. Entry £7.00 per person.
URL:https://thevenuebirstall.com/event/sunday-sequence-dance-2023-05-07/
LOCATION:The Venue\, Market Street\, Birstall\, WF17 9EN\, United Kingdom
CATEGORIES:Social Dance Nights
ATTACH;FMTTYPE=image/jpeg:https://thevenuebirstall.com/wp-content/uploads/2020/05/IMG_0664-scaled.jpeg
ORGANIZER;CN="Michael Sandham":MAILTO:enquiries@thevenuebirstall.com
END:VEVENT
BEGIN:VEVENT
DTSTART;TZID=Europe/London:20251214T200000
DTEND;TZID=Europe/London:20260428T003000
DTSTAMP:20260423T164008
CREATED:20210809T110513Z
LAST-MODIFIED:20250624T022719Z
UID:10007957-1765742400-1777336200@thevenuebirstall.com
SUMMARY:Sunday Sequence Dance
DESCRIPTION:Join us from 8.00 pm – 10.30 pm every Sunday for our popular social dance evening. 50% popular Sequence Dancing plus Ballroom and Latin American.\nEnjoy The Venue’s unique atmosphere. Entry £7.00 per person.
URL:https://thevenuebirstall.com/event/sunday-sequence-dance-2023-07-02/
LOCATION:The Venue\, Market Street\, Birstall\, WF17 9EN\, United Kingdom
CATEGORIES:Social Dance Nights
ATTACH;FMTTYPE=image/jpeg:https://thevenuebirstall.com/wp-content/uploads/2020/05/IMG_0664-scaled.jpeg
ORGANIZER;CN="Michael Sandham":MAILTO:enquiries@thevenuebirstall.com
END:VEVENT
BEGIN:VEVENT
DTSTART;TZID=Europe/London:20251214T200000
DTEND;TZID=Europe/London:20260427T233000
DTSTAMP:20260423T164008
CREATED:20210809T110513Z
LAST-MODIFIED:20250624T022716Z
UID:10003379-1765742400-1777332600@thevenuebirstall.com
SUMMARY:Sunday Sequence Dance
DESCRIPTION:Join us from 8.00 pm – 10.30 pm every Sunday for our popular social dance evening. 50% popular Sequence Dancing plus Ballroom and Latin American.\nEnjoy The Venue’s unique atmosphere. Entry £7.00 per person.
URL:https://thevenuebirstall.com/event/sunday-sequence-dance-2023-04-09/
LOCATION:The Venue\, Market Street\, Birstall\, WF17 9EN\, United Kingdom
CATEGORIES:Social Dance Nights
ATTACH;FMTTYPE=image/jpeg:https://thevenuebirstall.com/wp-content/uploads/2020/05/IMG_0664-scaled.jpeg
ORGANIZER;CN="Michael Sandham":MAILTO:enquiries@thevenuebirstall.com
END:VEVENT
BEGIN:VEVENT
DTSTART;TZID=Europe/London:20251214T200000
DTEND;TZID=Europe/London:20260427T233000
DTSTAMP:20260423T164008
CREATED:20210809T110513Z
LAST-MODIFIED:20250624T022717Z
UID:10006447-1765742400-1777332600@thevenuebirstall.com
SUMMARY:Sunday Sequence Dance
DESCRIPTION:Join us from 8.00 pm – 10.30 pm every Sunday for our popular social dance evening. 50% popular Sequence Dancing plus Ballroom and Latin American.\nEnjoy The Venue’s unique atmosphere. Entry £7.00 per person.
URL:https://thevenuebirstall.com/event/sunday-sequence-dance-2023-06-04/
LOCATION:The Venue\, Market Street\, Birstall\, WF17 9EN\, United Kingdom
CATEGORIES:Social Dance Nights
ATTACH;FMTTYPE=image/jpeg:https://thevenuebirstall.com/wp-content/uploads/2020/05/IMG_0664-scaled.jpeg
ORGANIZER;CN="Michael Sandham":MAILTO:enquiries@thevenuebirstall.com
END:VEVENT
BEGIN:VEVENT
DTSTART;TZID=Europe/London:20251214T200000
DTEND;TZID=Europe/London:20260428T003000
DTSTAMP:20260423T164008
CREATED:20210809T110513Z
LAST-MODIFIED:20250624T022719Z
UID:10009451-1765742400-1777336200@thevenuebirstall.com
SUMMARY:Sunday Sequence Dance
DESCRIPTION:Join us from 8.00 pm – 10.30 pm every Sunday for our popular social dance evening. 50% popular Sequence Dancing plus Ballroom and Latin American.\nEnjoy The Venue’s unique atmosphere. Entry £7.00 per person.
URL:https://thevenuebirstall.com/event/sunday-sequence-dance-2023-07-30/
LOCATION:The Venue\, Market Street\, Birstall\, WF17 9EN\, United Kingdom
CATEGORIES:Social Dance Nights
ATTACH;FMTTYPE=image/jpeg:https://thevenuebirstall.com/wp-content/uploads/2020/05/IMG_0664-scaled.jpeg
ORGANIZER;CN="Michael Sandham":MAILTO:enquiries@thevenuebirstall.com
END:VEVENT
BEGIN:VEVENT
DTSTART;TZID=Europe/London:20251214T200000
DTEND;TZID=Europe/London:20260427T233000
DTSTAMP:20260423T164008
CREATED:20210809T110513Z
LAST-MODIFIED:20250624T022717Z
UID:10005304-1765742400-1777332600@thevenuebirstall.com
SUMMARY:Sunday Sequence Dance
DESCRIPTION:Join us from 8.00 pm – 10.30 pm every Sunday for our popular social dance evening. 50% popular Sequence Dancing plus Ballroom and Latin American.\nEnjoy The Venue’s unique atmosphere. Entry £7.00 per person.
URL:https://thevenuebirstall.com/event/sunday-sequence-dance-2023-05-14/
LOCATION:The Venue\, Market Street\, Birstall\, WF17 9EN\, United Kingdom
CATEGORIES:Social Dance Nights
ATTACH;FMTTYPE=image/jpeg:https://thevenuebirstall.com/wp-content/uploads/2020/05/IMG_0664-scaled.jpeg
ORGANIZER;CN="Michael Sandham":MAILTO:enquiries@thevenuebirstall.com
END:VEVENT
BEGIN:VEVENT
DTSTART;TZID=Europe/London:20251214T200000
DTEND;TZID=Europe/London:20260428T003000
DTSTAMP:20260423T164008
CREATED:20210809T110513Z
LAST-MODIFIED:20250624T022719Z
UID:10008332-1765742400-1777336200@thevenuebirstall.com
SUMMARY:Sunday Sequence Dance
DESCRIPTION:Join us from 8.00 pm – 10.30 pm every Sunday for our popular social dance evening. 50% popular Sequence Dancing plus Ballroom and Latin American.\nEnjoy The Venue’s unique atmosphere. Entry £7.00 per person.
URL:https://thevenuebirstall.com/event/sunday-sequence-dance-2023-07-09/
LOCATION:The Venue\, Market Street\, Birstall\, WF17 9EN\, United Kingdom
CATEGORIES:Social Dance Nights
ATTACH;FMTTYPE=image/jpeg:https://thevenuebirstall.com/wp-content/uploads/2020/05/IMG_0664-scaled.jpeg
ORGANIZER;CN="Michael Sandham":MAILTO:enquiries@thevenuebirstall.com
END:VEVENT
BEGIN:VEVENT
DTSTART;TZID=Europe/London:20251214T200000
DTEND;TZID=Europe/London:20260427T233000
DTSTAMP:20260423T164008
CREATED:20210809T110513Z
LAST-MODIFIED:20250624T022716Z
UID:10003766-1765742400-1777332600@thevenuebirstall.com
SUMMARY:Sunday Sequence Dance
DESCRIPTION:Join us from 8.00 pm – 10.30 pm every Sunday for our popular social dance evening. 50% popular Sequence Dancing plus Ballroom and Latin American.\nEnjoy The Venue’s unique atmosphere. Entry £7.00 per person.
URL:https://thevenuebirstall.com/event/sunday-sequence-dance-2023-04-16/
LOCATION:The Venue\, Market Street\, Birstall\, WF17 9EN\, United Kingdom
CATEGORIES:Social Dance Nights
ATTACH;FMTTYPE=image/jpeg:https://thevenuebirstall.com/wp-content/uploads/2020/05/IMG_0664-scaled.jpeg
ORGANIZER;CN="Michael Sandham":MAILTO:enquiries@thevenuebirstall.com
END:VEVENT
BEGIN:VEVENT
DTSTART;TZID=Europe/London:20251214T200000
DTEND;TZID=Europe/London:20260427T233000
DTSTAMP:20260423T164008
CREATED:20210809T110513Z
LAST-MODIFIED:20250624T022718Z
UID:10006826-1765742400-1777332600@thevenuebirstall.com
SUMMARY:Sunday Sequence Dance
DESCRIPTION:Join us from 8.00 pm – 10.30 pm every Sunday for our popular social dance evening. 50% popular Sequence Dancing plus Ballroom and Latin American.\nEnjoy The Venue’s unique atmosphere. Entry £7.00 per person.
URL:https://thevenuebirstall.com/event/sunday-sequence-dance-2023-06-11/
LOCATION:The Venue\, Market Street\, Birstall\, WF17 9EN\, United Kingdom
CATEGORIES:Social Dance Nights
ATTACH;FMTTYPE=image/jpeg:https://thevenuebirstall.com/wp-content/uploads/2020/05/IMG_0664-scaled.jpeg
ORGANIZER;CN="Michael Sandham":MAILTO:enquiries@thevenuebirstall.com
END:VEVENT
BEGIN:VEVENT
DTSTART;TZID=Europe/London:20251221T200000
DTEND;TZID=Europe/London:20260504T233000
DTSTAMP:20260423T164008
CREATED:20210809T110513Z
LAST-MODIFIED:20250624T022717Z
UID:10005305-1766347200-1777937400@thevenuebirstall.com
SUMMARY:Sunday Sequence Dance
DESCRIPTION:Join us from 8.00 pm – 10.30 pm every Sunday for our popular social dance evening. 50% popular Sequence Dancing plus Ballroom and Latin American.\nEnjoy The Venue’s unique atmosphere. Entry £7.00 per person.
URL:https://thevenuebirstall.com/event/sunday-sequence-dance-2023-05-14/
LOCATION:The Venue\, Market Street\, Birstall\, WF17 9EN\, United Kingdom
CATEGORIES:Social Dance Nights
ATTACH;FMTTYPE=image/jpeg:https://thevenuebirstall.com/wp-content/uploads/2020/05/IMG_0664-scaled.jpeg
ORGANIZER;CN="Michael Sandham":MAILTO:enquiries@thevenuebirstall.com
END:VEVENT
BEGIN:VEVENT
DTSTART;TZID=Europe/London:20251221T200000
DTEND;TZID=Europe/London:20260505T003000
DTSTAMP:20260423T164008
CREATED:20210809T110513Z
LAST-MODIFIED:20250624T022719Z
UID:10008333-1766347200-1777941000@thevenuebirstall.com
SUMMARY:Sunday Sequence Dance
DESCRIPTION:Join us from 8.00 pm – 10.30 pm every Sunday for our popular social dance evening. 50% popular Sequence Dancing plus Ballroom and Latin American.\nEnjoy The Venue’s unique atmosphere. Entry £7.00 per person.
URL:https://thevenuebirstall.com/event/sunday-sequence-dance-2023-07-09/
LOCATION:The Venue\, Market Street\, Birstall\, WF17 9EN\, United Kingdom
CATEGORIES:Social Dance Nights
ATTACH;FMTTYPE=image/jpeg:https://thevenuebirstall.com/wp-content/uploads/2020/05/IMG_0664-scaled.jpeg
ORGANIZER;CN="Michael Sandham":MAILTO:enquiries@thevenuebirstall.com
END:VEVENT
BEGIN:VEVENT
DTSTART;TZID=Europe/London:20251221T200000
DTEND;TZID=Europe/London:20260504T233000
DTSTAMP:20260423T164008
CREATED:20210809T110513Z
LAST-MODIFIED:20250624T022716Z
UID:10003767-1766347200-1777937400@thevenuebirstall.com
SUMMARY:Sunday Sequence Dance
DESCRIPTION:Join us from 8.00 pm – 10.30 pm every Sunday for our popular social dance evening. 50% popular Sequence Dancing plus Ballroom and Latin American.\nEnjoy The Venue’s unique atmosphere. Entry £7.00 per person.
URL:https://thevenuebirstall.com/event/sunday-sequence-dance-2023-04-16/
LOCATION:The Venue\, Market Street\, Birstall\, WF17 9EN\, United Kingdom
CATEGORIES:Social Dance Nights
ATTACH;FMTTYPE=image/jpeg:https://thevenuebirstall.com/wp-content/uploads/2020/05/IMG_0664-scaled.jpeg
ORGANIZER;CN="Michael Sandham":MAILTO:enquiries@thevenuebirstall.com
END:VEVENT
BEGIN:VEVENT
DTSTART;TZID=Europe/London:20251221T200000
DTEND;TZID=Europe/London:20260504T233000
DTSTAMP:20260423T164008
CREATED:20210809T110513Z
LAST-MODIFIED:20250624T022718Z
UID:10006827-1766347200-1777937400@thevenuebirstall.com
SUMMARY:Sunday Sequence Dance
DESCRIPTION:Join us from 8.00 pm – 10.30 pm every Sunday for our popular social dance evening. 50% popular Sequence Dancing plus Ballroom and Latin American.\nEnjoy The Venue’s unique atmosphere. Entry £7.00 per person.
URL:https://thevenuebirstall.com/event/sunday-sequence-dance-2023-06-11/
LOCATION:The Venue\, Market Street\, Birstall\, WF17 9EN\, United Kingdom
CATEGORIES:Social Dance Nights
ATTACH;FMTTYPE=image/jpeg:https://thevenuebirstall.com/wp-content/uploads/2020/05/IMG_0664-scaled.jpeg
ORGANIZER;CN="Michael Sandham":MAILTO:enquiries@thevenuebirstall.com
END:VEVENT
BEGIN:VEVENT
DTSTART;TZID=Europe/London:20251221T200000
DTEND;TZID=Europe/London:20260505T003000
DTSTAMP:20260423T164008
CREATED:20210809T110513Z
LAST-MODIFIED:20250624T022718Z
UID:10007205-1766347200-1777941000@thevenuebirstall.com
SUMMARY:Sunday Sequence Dance
DESCRIPTION:Join us from 8.00 pm – 10.30 pm every Sunday for our popular social dance evening. 50% popular Sequence Dancing plus Ballroom and Latin American.\nEnjoy The Venue’s unique atmosphere. Entry £7.00 per person.
URL:https://thevenuebirstall.com/event/sunday-sequence-dance-2023-06-18/
LOCATION:The Venue\, Market Street\, Birstall\, WF17 9EN\, United Kingdom
CATEGORIES:Social Dance Nights
ATTACH;FMTTYPE=image/jpeg:https://thevenuebirstall.com/wp-content/uploads/2020/05/IMG_0664-scaled.jpeg
ORGANIZER;CN="Michael Sandham":MAILTO:enquiries@thevenuebirstall.com
END:VEVENT
BEGIN:VEVENT
DTSTART;TZID=Europe/London:20251221T200000
DTEND;TZID=Europe/London:20260504T233000
DTSTAMP:20260423T164008
CREATED:20210809T110513Z
LAST-MODIFIED:20250624T022715Z
UID:10002603-1766347200-1777937400@thevenuebirstall.com
SUMMARY:Sunday Sequence Dance
DESCRIPTION:Join us from 8.00 pm – 10.30 pm every Sunday for our popular social dance evening. 50% popular Sequence Dancing plus Ballroom and Latin American.\nEnjoy The Venue’s unique atmosphere. Entry £7.00 per person.
URL:https://thevenuebirstall.com/event/sunday-sequence-dance-2023-03-26/
LOCATION:The Venue\, Market Street\, Birstall\, WF17 9EN\, United Kingdom
CATEGORIES:Social Dance Nights
ATTACH;FMTTYPE=image/jpeg:https://thevenuebirstall.com/wp-content/uploads/2020/05/IMG_0664-scaled.jpeg
ORGANIZER;CN="Michael Sandham":MAILTO:enquiries@thevenuebirstall.com
END:VEVENT
BEGIN:VEVENT
DTSTART;TZID=Europe/London:20251221T200000
DTEND;TZID=Europe/London:20260504T233000
DTSTAMP:20260423T164008
CREATED:20210809T110513Z
LAST-MODIFIED:20250624T022717Z
UID:10005687-1766347200-1777937400@thevenuebirstall.com
SUMMARY:Sunday Sequence Dance
DESCRIPTION:Join us from 8.00 pm – 10.30 pm every Sunday for our popular social dance evening. 50% popular Sequence Dancing plus Ballroom and Latin American.\nEnjoy The Venue’s unique atmosphere. Entry £7.00 per person.
URL:https://thevenuebirstall.com/event/sunday-sequence-dance-2023-05-21/
LOCATION:The Venue\, Market Street\, Birstall\, WF17 9EN\, United Kingdom
CATEGORIES:Social Dance Nights
ATTACH;FMTTYPE=image/jpeg:https://thevenuebirstall.com/wp-content/uploads/2020/05/IMG_0664-scaled.jpeg
ORGANIZER;CN="Michael Sandham":MAILTO:enquiries@thevenuebirstall.com
END:VEVENT
BEGIN:VEVENT
DTSTART;TZID=Europe/London:20251221T200000
DTEND;TZID=Europe/London:20260505T003000
DTSTAMP:20260423T164008
CREATED:20210809T110513Z
LAST-MODIFIED:20250624T022719Z
UID:10008707-1766347200-1777941000@thevenuebirstall.com
SUMMARY:Sunday Sequence Dance
DESCRIPTION:Join us from 8.00 pm – 10.30 pm every Sunday for our popular social dance evening. 50% popular Sequence Dancing plus Ballroom and Latin American.\nEnjoy The Venue’s unique atmosphere. Entry £7.00 per person.
URL:https://thevenuebirstall.com/event/sunday-sequence-dance-2023-07-16/
LOCATION:The Venue\, Market Street\, Birstall\, WF17 9EN\, United Kingdom
CATEGORIES:Social Dance Nights
ATTACH;FMTTYPE=image/jpeg:https://thevenuebirstall.com/wp-content/uploads/2020/05/IMG_0664-scaled.jpeg
ORGANIZER;CN="Michael Sandham":MAILTO:enquiries@thevenuebirstall.com
END:VEVENT
BEGIN:VEVENT
DTSTART;TZID=Europe/London:20251221T200000
DTEND;TZID=Europe/London:20260504T233000
DTSTAMP:20260423T164008
CREATED:20210809T110513Z
LAST-MODIFIED:20250624T022716Z
UID:10004153-1766347200-1777937400@thevenuebirstall.com
SUMMARY:Sunday Sequence Dance
DESCRIPTION:Join us from 8.00 pm – 10.30 pm every Sunday for our popular social dance evening. 50% popular Sequence Dancing plus Ballroom and Latin American.\nEnjoy The Venue’s unique atmosphere. Entry £7.00 per person.
URL:https://thevenuebirstall.com/event/sunday-sequence-dance-2023-04-23/
LOCATION:The Venue\, Market Street\, Birstall\, WF17 9EN\, United Kingdom
CATEGORIES:Social Dance Nights
ATTACH;FMTTYPE=image/jpeg:https://thevenuebirstall.com/wp-content/uploads/2020/05/IMG_0664-scaled.jpeg
ORGANIZER;CN="Michael Sandham":MAILTO:enquiries@thevenuebirstall.com
END:VEVENT
BEGIN:VEVENT
DTSTART;TZID=Europe/London:20251221T200000
DTEND;TZID=Europe/London:20260504T233000
DTSTAMP:20260423T164008
CREATED:20210809T110513Z
LAST-MODIFIED:20250624T022716Z
UID:10004538-1766347200-1777937400@thevenuebirstall.com
SUMMARY:Sunday Sequence Dance
DESCRIPTION:Join us from 8.00 pm – 10.30 pm every Sunday for our popular social dance evening. 50% popular Sequence Dancing plus Ballroom and Latin American.\nEnjoy The Venue’s unique atmosphere. Entry £7.00 per person.
URL:https://thevenuebirstall.com/event/sunday-sequence-dance-2023-04-30/
LOCATION:The Venue\, Market Street\, Birstall\, WF17 9EN\, United Kingdom
CATEGORIES:Social Dance Nights
ATTACH;FMTTYPE=image/jpeg:https://thevenuebirstall.com/wp-content/uploads/2020/05/IMG_0664-scaled.jpeg
ORGANIZER;CN="Michael Sandham":MAILTO:enquiries@thevenuebirstall.com
END:VEVENT
BEGIN:VEVENT
DTSTART;TZID=Europe/London:20251221T200000
DTEND;TZID=Europe/London:20260505T003000
DTSTAMP:20260423T164008
CREATED:20210809T110513Z
LAST-MODIFIED:20250624T022719Z
UID:10007582-1766347200-1777941000@thevenuebirstall.com
SUMMARY:Sunday Sequence Dance
DESCRIPTION:Join us from 8.00 pm – 10.30 pm every Sunday for our popular social dance evening. 50% popular Sequence Dancing plus Ballroom and Latin American.\nEnjoy The Venue’s unique atmosphere. Entry £7.00 per person.
URL:https://thevenuebirstall.com/event/sunday-sequence-dance-2023-06-25/
LOCATION:The Venue\, Market Street\, Birstall\, WF17 9EN\, United Kingdom
CATEGORIES:Social Dance Nights
ATTACH;FMTTYPE=image/jpeg:https://thevenuebirstall.com/wp-content/uploads/2020/05/IMG_0664-scaled.jpeg
ORGANIZER;CN="Michael Sandham":MAILTO:enquiries@thevenuebirstall.com
END:VEVENT
END:VCALENDAR