BEGIN:VCALENDAR
VERSION:2.0
PRODID:-//The Venue Birstall - ECPv6.15.20//NONSGML v1.0//EN
CALSCALE:GREGORIAN
METHOD:PUBLISH
X-ORIGINAL-URL:https://thevenuebirstall.com
X-WR-CALDESC:Events for The Venue Birstall
REFRESH-INTERVAL;VALUE=DURATION:PT1H
X-Robots-Tag:noindex
X-PUBLISHED-TTL:PT1H
BEGIN:VTIMEZONE
TZID:Europe/London
BEGIN:DAYLIGHT
TZOFFSETFROM:+0000
TZOFFSETTO:+0100
TZNAME:BST
DTSTART:20250330T010000
END:DAYLIGHT
BEGIN:STANDARD
TZOFFSETFROM:+0100
TZOFFSETTO:+0000
TZNAME:GMT
DTSTART:20251026T010000
END:STANDARD
BEGIN:DAYLIGHT
TZOFFSETFROM:+0000
TZOFFSETTO:+0100
TZNAME:BST
DTSTART:20260329T010000
END:DAYLIGHT
BEGIN:STANDARD
TZOFFSETFROM:+0100
TZOFFSETTO:+0000
TZNAME:GMT
DTSTART:20261025T010000
END:STANDARD
BEGIN:DAYLIGHT
TZOFFSETFROM:+0000
TZOFFSETTO:+0100
TZNAME:BST
DTSTART:20270328T010000
END:DAYLIGHT
BEGIN:STANDARD
TZOFFSETFROM:+0100
TZOFFSETTO:+0000
TZNAME:GMT
DTSTART:20271031T010000
END:STANDARD
END:VTIMEZONE
BEGIN:VEVENT
DTSTART;TZID=Europe/London:20260322T200000
DTEND;TZID=Europe/London:20260804T003000
DTSTAMP:20260425T173105
CREATED:20210809T110513Z
LAST-MODIFIED:20250624T022719Z
UID:10009093-1774209600-1785803400@thevenuebirstall.com
SUMMARY:Sunday Sequence Dance
DESCRIPTION:Join us from 8.00 pm – 10.30 pm every Sunday for our popular social dance evening. 50% popular Sequence Dancing plus Ballroom and Latin American.\nEnjoy The Venue’s unique atmosphere. Entry £7.00 per person.
URL:https://thevenuebirstall.com/event/sunday-sequence-dance-2023-07-23/
LOCATION:The Venue\, Market Street\, Birstall\, WF17 9EN\, United Kingdom
CATEGORIES:Social Dance Nights
ATTACH;FMTTYPE=image/jpeg:https://thevenuebirstall.com/wp-content/uploads/2020/05/IMG_0664-scaled.jpeg
ORGANIZER;CN="Michael Sandham":MAILTO:enquiries@thevenuebirstall.com
END:VEVENT
BEGIN:VEVENT
DTSTART;TZID=Europe/London:20260322T200000
DTEND;TZID=Europe/London:20260803T233000
DTSTAMP:20260425T173105
CREATED:20210809T110513Z
LAST-MODIFIED:20250624T022716Z
UID:10004166-1774209600-1785799800@thevenuebirstall.com
SUMMARY:Sunday Sequence Dance
DESCRIPTION:Join us from 8.00 pm – 10.30 pm every Sunday for our popular social dance evening. 50% popular Sequence Dancing plus Ballroom and Latin American.\nEnjoy The Venue’s unique atmosphere. Entry £7.00 per person.
URL:https://thevenuebirstall.com/event/sunday-sequence-dance-2023-04-23/
LOCATION:The Venue\, Market Street\, Birstall\, WF17 9EN\, United Kingdom
CATEGORIES:Social Dance Nights
ATTACH;FMTTYPE=image/jpeg:https://thevenuebirstall.com/wp-content/uploads/2020/05/IMG_0664-scaled.jpeg
ORGANIZER;CN="Michael Sandham":MAILTO:enquiries@thevenuebirstall.com
END:VEVENT
BEGIN:VEVENT
DTSTART;TZID=Europe/London:20260322T200000
DTEND;TZID=Europe/London:20260804T003000
DTSTAMP:20260425T173105
CREATED:20210809T110513Z
LAST-MODIFIED:20250624T022718Z
UID:10007218-1774209600-1785803400@thevenuebirstall.com
SUMMARY:Sunday Sequence Dance
DESCRIPTION:Join us from 8.00 pm – 10.30 pm every Sunday for our popular social dance evening. 50% popular Sequence Dancing plus Ballroom and Latin American.\nEnjoy The Venue’s unique atmosphere. Entry £7.00 per person.
URL:https://thevenuebirstall.com/event/sunday-sequence-dance-2023-06-18/
LOCATION:The Venue\, Market Street\, Birstall\, WF17 9EN\, United Kingdom
CATEGORIES:Social Dance Nights
ATTACH;FMTTYPE=image/jpeg:https://thevenuebirstall.com/wp-content/uploads/2020/05/IMG_0664-scaled.jpeg
ORGANIZER;CN="Michael Sandham":MAILTO:enquiries@thevenuebirstall.com
END:VEVENT
BEGIN:VEVENT
DTSTART;TZID=Europe/London:20260322T200000
DTEND;TZID=Europe/London:20260803T233000
DTSTAMP:20260425T173105
CREATED:20210809T110513Z
LAST-MODIFIED:20250624T022717Z
UID:10005318-1774209600-1785799800@thevenuebirstall.com
SUMMARY:Sunday Sequence Dance
DESCRIPTION:Join us from 8.00 pm – 10.30 pm every Sunday for our popular social dance evening. 50% popular Sequence Dancing plus Ballroom and Latin American.\nEnjoy The Venue’s unique atmosphere. Entry £7.00 per person.
URL:https://thevenuebirstall.com/event/sunday-sequence-dance-2023-05-14/
LOCATION:The Venue\, Market Street\, Birstall\, WF17 9EN\, United Kingdom
CATEGORIES:Social Dance Nights
ATTACH;FMTTYPE=image/jpeg:https://thevenuebirstall.com/wp-content/uploads/2020/05/IMG_0664-scaled.jpeg
ORGANIZER;CN="Michael Sandham":MAILTO:enquiries@thevenuebirstall.com
END:VEVENT
BEGIN:VEVENT
DTSTART;TZID=Europe/London:20260322T200000
DTEND;TZID=Europe/London:20260804T003000
DTSTAMP:20260425T173105
CREATED:20210809T110513Z
LAST-MODIFIED:20250624T022719Z
UID:10008346-1774209600-1785803400@thevenuebirstall.com
SUMMARY:Sunday Sequence Dance
DESCRIPTION:Join us from 8.00 pm – 10.30 pm every Sunday for our popular social dance evening. 50% popular Sequence Dancing plus Ballroom and Latin American.\nEnjoy The Venue’s unique atmosphere. Entry £7.00 per person.
URL:https://thevenuebirstall.com/event/sunday-sequence-dance-2023-07-09/
LOCATION:The Venue\, Market Street\, Birstall\, WF17 9EN\, United Kingdom
CATEGORIES:Social Dance Nights
ATTACH;FMTTYPE=image/jpeg:https://thevenuebirstall.com/wp-content/uploads/2020/05/IMG_0664-scaled.jpeg
ORGANIZER;CN="Michael Sandham":MAILTO:enquiries@thevenuebirstall.com
END:VEVENT
BEGIN:VEVENT
DTSTART;TZID=Europe/London:20260329T200000
DTEND;TZID=Europe/London:20260810T223000
DTSTAMP:20260425T173105
CREATED:20210809T110513Z
LAST-MODIFIED:20250624T022717Z
UID:10005319-1774814400-1786401000@thevenuebirstall.com
SUMMARY:Sunday Sequence Dance
DESCRIPTION:Join us from 8.00 pm – 10.30 pm every Sunday for our popular social dance evening. 50% popular Sequence Dancing plus Ballroom and Latin American.\nEnjoy The Venue’s unique atmosphere. Entry £7.00 per person.
URL:https://thevenuebirstall.com/event/sunday-sequence-dance-2023-05-14/
LOCATION:The Venue\, Market Street\, Birstall\, WF17 9EN\, United Kingdom
CATEGORIES:Social Dance Nights
ATTACH;FMTTYPE=image/jpeg:https://thevenuebirstall.com/wp-content/uploads/2020/05/IMG_0664-scaled.jpeg
ORGANIZER;CN="Michael Sandham":MAILTO:enquiries@thevenuebirstall.com
END:VEVENT
BEGIN:VEVENT
DTSTART;TZID=Europe/London:20260329T200000
DTEND;TZID=Europe/London:20260810T233000
DTSTAMP:20260425T173105
CREATED:20210809T110513Z
LAST-MODIFIED:20250624T022719Z
UID:10008347-1774814400-1786404600@thevenuebirstall.com
SUMMARY:Sunday Sequence Dance
DESCRIPTION:Join us from 8.00 pm – 10.30 pm every Sunday for our popular social dance evening. 50% popular Sequence Dancing plus Ballroom and Latin American.\nEnjoy The Venue’s unique atmosphere. Entry £7.00 per person.
URL:https://thevenuebirstall.com/event/sunday-sequence-dance-2023-07-09/
LOCATION:The Venue\, Market Street\, Birstall\, WF17 9EN\, United Kingdom
CATEGORIES:Social Dance Nights
ATTACH;FMTTYPE=image/jpeg:https://thevenuebirstall.com/wp-content/uploads/2020/05/IMG_0664-scaled.jpeg
ORGANIZER;CN="Michael Sandham":MAILTO:enquiries@thevenuebirstall.com
END:VEVENT
BEGIN:VEVENT
DTSTART;TZID=Europe/London:20260329T200000
DTEND;TZID=Europe/London:20260810T233000
DTSTAMP:20260425T173105
CREATED:20210809T110513Z
LAST-MODIFIED:20250624T022719Z
UID:10009466-1774814400-1786404600@thevenuebirstall.com
SUMMARY:Sunday Sequence Dance
DESCRIPTION:Join us from 8.00 pm – 10.30 pm every Sunday for our popular social dance evening. 50% popular Sequence Dancing plus Ballroom and Latin American.\nEnjoy The Venue’s unique atmosphere. Entry £7.00 per person.
URL:https://thevenuebirstall.com/event/sunday-sequence-dance-2023-07-30/
LOCATION:The Venue\, Market Street\, Birstall\, WF17 9EN\, United Kingdom
CATEGORIES:Social Dance Nights
ATTACH;FMTTYPE=image/jpeg:https://thevenuebirstall.com/wp-content/uploads/2020/05/IMG_0664-scaled.jpeg
ORGANIZER;CN="Michael Sandham":MAILTO:enquiries@thevenuebirstall.com
END:VEVENT
BEGIN:VEVENT
DTSTART;TZID=Europe/London:20260329T200000
DTEND;TZID=Europe/London:20260810T223000
DTSTAMP:20260425T173105
CREATED:20210809T110513Z
LAST-MODIFIED:20250624T022716Z
UID:10003394-1774814400-1786401000@thevenuebirstall.com
SUMMARY:Sunday Sequence Dance
DESCRIPTION:Join us from 8.00 pm – 10.30 pm every Sunday for our popular social dance evening. 50% popular Sequence Dancing plus Ballroom and Latin American.\nEnjoy The Venue’s unique atmosphere. Entry £7.00 per person.
URL:https://thevenuebirstall.com/event/sunday-sequence-dance-2023-04-09/
LOCATION:The Venue\, Market Street\, Birstall\, WF17 9EN\, United Kingdom
CATEGORIES:Social Dance Nights
ATTACH;FMTTYPE=image/jpeg:https://thevenuebirstall.com/wp-content/uploads/2020/05/IMG_0664-scaled.jpeg
ORGANIZER;CN="Michael Sandham":MAILTO:enquiries@thevenuebirstall.com
END:VEVENT
BEGIN:VEVENT
DTSTART;TZID=Europe/London:20260329T200000
DTEND;TZID=Europe/London:20260810T223000
DTSTAMP:20260425T173105
CREATED:20210809T110513Z
LAST-MODIFIED:20250624T022717Z
UID:10006462-1774814400-1786401000@thevenuebirstall.com
SUMMARY:Sunday Sequence Dance
DESCRIPTION:Join us from 8.00 pm – 10.30 pm every Sunday for our popular social dance evening. 50% popular Sequence Dancing plus Ballroom and Latin American.\nEnjoy The Venue’s unique atmosphere. Entry £7.00 per person.
URL:https://thevenuebirstall.com/event/sunday-sequence-dance-2023-06-04/
LOCATION:The Venue\, Market Street\, Birstall\, WF17 9EN\, United Kingdom
CATEGORIES:Social Dance Nights
ATTACH;FMTTYPE=image/jpeg:https://thevenuebirstall.com/wp-content/uploads/2020/05/IMG_0664-scaled.jpeg
ORGANIZER;CN="Michael Sandham":MAILTO:enquiries@thevenuebirstall.com
END:VEVENT
BEGIN:VEVENT
DTSTART;TZID=Europe/London:20260329T200000
DTEND;TZID=Europe/London:20260810T223000
DTSTAMP:20260425T173105
CREATED:20210809T110513Z
LAST-MODIFIED:20250624T022716Z
UID:10004552-1774814400-1786401000@thevenuebirstall.com
SUMMARY:Sunday Sequence Dance
DESCRIPTION:Join us from 8.00 pm – 10.30 pm every Sunday for our popular social dance evening. 50% popular Sequence Dancing plus Ballroom and Latin American.\nEnjoy The Venue’s unique atmosphere. Entry £7.00 per person.
URL:https://thevenuebirstall.com/event/sunday-sequence-dance-2023-04-30/
LOCATION:The Venue\, Market Street\, Birstall\, WF17 9EN\, United Kingdom
CATEGORIES:Social Dance Nights
ATTACH;FMTTYPE=image/jpeg:https://thevenuebirstall.com/wp-content/uploads/2020/05/IMG_0664-scaled.jpeg
ORGANIZER;CN="Michael Sandham":MAILTO:enquiries@thevenuebirstall.com
END:VEVENT
BEGIN:VEVENT
DTSTART;TZID=Europe/London:20260329T200000
DTEND;TZID=Europe/London:20260810T233000
DTSTAMP:20260425T173105
CREATED:20210809T110513Z
LAST-MODIFIED:20250624T022719Z
UID:10007596-1774814400-1786404600@thevenuebirstall.com
SUMMARY:Sunday Sequence Dance
DESCRIPTION:Join us from 8.00 pm – 10.30 pm every Sunday for our popular social dance evening. 50% popular Sequence Dancing plus Ballroom and Latin American.\nEnjoy The Venue’s unique atmosphere. Entry £7.00 per person.
URL:https://thevenuebirstall.com/event/sunday-sequence-dance-2023-06-25/
LOCATION:The Venue\, Market Street\, Birstall\, WF17 9EN\, United Kingdom
CATEGORIES:Social Dance Nights
ATTACH;FMTTYPE=image/jpeg:https://thevenuebirstall.com/wp-content/uploads/2020/05/IMG_0664-scaled.jpeg
ORGANIZER;CN="Michael Sandham":MAILTO:enquiries@thevenuebirstall.com
END:VEVENT
BEGIN:VEVENT
DTSTART;TZID=Europe/London:20260329T200000
DTEND;TZID=Europe/London:20260810T223000
DTSTAMP:20260425T173105
CREATED:20210809T110513Z
LAST-MODIFIED:20250624T022715Z
UID:10002617-1774814400-1786401000@thevenuebirstall.com
SUMMARY:Sunday Sequence Dance
DESCRIPTION:Join us from 8.00 pm – 10.30 pm every Sunday for our popular social dance evening. 50% popular Sequence Dancing plus Ballroom and Latin American.\nEnjoy The Venue’s unique atmosphere. Entry £7.00 per person.
URL:https://thevenuebirstall.com/event/sunday-sequence-dance-2023-03-26/
LOCATION:The Venue\, Market Street\, Birstall\, WF17 9EN\, United Kingdom
CATEGORIES:Social Dance Nights
ATTACH;FMTTYPE=image/jpeg:https://thevenuebirstall.com/wp-content/uploads/2020/05/IMG_0664-scaled.jpeg
ORGANIZER;CN="Michael Sandham":MAILTO:enquiries@thevenuebirstall.com
END:VEVENT
BEGIN:VEVENT
DTSTART;TZID=Europe/London:20260329T200000
DTEND;TZID=Europe/London:20260810T223000
DTSTAMP:20260425T173105
CREATED:20210809T110513Z
LAST-MODIFIED:20250624T022717Z
UID:10005701-1774814400-1786401000@thevenuebirstall.com
SUMMARY:Sunday Sequence Dance
DESCRIPTION:Join us from 8.00 pm – 10.30 pm every Sunday for our popular social dance evening. 50% popular Sequence Dancing plus Ballroom and Latin American.\nEnjoy The Venue’s unique atmosphere. Entry £7.00 per person.
URL:https://thevenuebirstall.com/event/sunday-sequence-dance-2023-05-21/
LOCATION:The Venue\, Market Street\, Birstall\, WF17 9EN\, United Kingdom
CATEGORIES:Social Dance Nights
ATTACH;FMTTYPE=image/jpeg:https://thevenuebirstall.com/wp-content/uploads/2020/05/IMG_0664-scaled.jpeg
ORGANIZER;CN="Michael Sandham":MAILTO:enquiries@thevenuebirstall.com
END:VEVENT
BEGIN:VEVENT
DTSTART;TZID=Europe/London:20260329T200000
DTEND;TZID=Europe/London:20260810T233000
DTSTAMP:20260425T173105
CREATED:20210809T110513Z
LAST-MODIFIED:20250624T022719Z
UID:10008721-1774814400-1786404600@thevenuebirstall.com
SUMMARY:Sunday Sequence Dance
DESCRIPTION:Join us from 8.00 pm – 10.30 pm every Sunday for our popular social dance evening. 50% popular Sequence Dancing plus Ballroom and Latin American.\nEnjoy The Venue’s unique atmosphere. Entry £7.00 per person.
URL:https://thevenuebirstall.com/event/sunday-sequence-dance-2023-07-16/
LOCATION:The Venue\, Market Street\, Birstall\, WF17 9EN\, United Kingdom
CATEGORIES:Social Dance Nights
ATTACH;FMTTYPE=image/jpeg:https://thevenuebirstall.com/wp-content/uploads/2020/05/IMG_0664-scaled.jpeg
ORGANIZER;CN="Michael Sandham":MAILTO:enquiries@thevenuebirstall.com
END:VEVENT
BEGIN:VEVENT
DTSTART;TZID=Europe/London:20260329T200000
DTEND;TZID=Europe/London:20260810T223000
DTSTAMP:20260425T173105
CREATED:20210809T110513Z
LAST-MODIFIED:20250624T022718Z
UID:10006841-1774814400-1786401000@thevenuebirstall.com
SUMMARY:Sunday Sequence Dance
DESCRIPTION:Join us from 8.00 pm – 10.30 pm every Sunday for our popular social dance evening. 50% popular Sequence Dancing plus Ballroom and Latin American.\nEnjoy The Venue’s unique atmosphere. Entry £7.00 per person.
URL:https://thevenuebirstall.com/event/sunday-sequence-dance-2023-06-11/
LOCATION:The Venue\, Market Street\, Birstall\, WF17 9EN\, United Kingdom
CATEGORIES:Social Dance Nights
ATTACH;FMTTYPE=image/jpeg:https://thevenuebirstall.com/wp-content/uploads/2020/05/IMG_0664-scaled.jpeg
ORGANIZER;CN="Michael Sandham":MAILTO:enquiries@thevenuebirstall.com
END:VEVENT
BEGIN:VEVENT
DTSTART;TZID=Europe/London:20260329T200000
DTEND;TZID=Europe/London:20260810T223000
DTSTAMP:20260425T173105
CREATED:20210809T110513Z
LAST-MODIFIED:20250624T022716Z
UID:10003781-1774814400-1786401000@thevenuebirstall.com
SUMMARY:Sunday Sequence Dance
DESCRIPTION:Join us from 8.00 pm – 10.30 pm every Sunday for our popular social dance evening. 50% popular Sequence Dancing plus Ballroom and Latin American.\nEnjoy The Venue’s unique atmosphere. Entry £7.00 per person.
URL:https://thevenuebirstall.com/event/sunday-sequence-dance-2023-04-16/
LOCATION:The Venue\, Market Street\, Birstall\, WF17 9EN\, United Kingdom
CATEGORIES:Social Dance Nights
ATTACH;FMTTYPE=image/jpeg:https://thevenuebirstall.com/wp-content/uploads/2020/05/IMG_0664-scaled.jpeg
ORGANIZER;CN="Michael Sandham":MAILTO:enquiries@thevenuebirstall.com
END:VEVENT
BEGIN:VEVENT
DTSTART;TZID=Europe/London:20260329T200000
DTEND;TZID=Europe/London:20260810T223000
DTSTAMP:20260425T173105
CREATED:20210809T110513Z
LAST-MODIFIED:20250624T022716Z
UID:10004936-1774814400-1786401000@thevenuebirstall.com
SUMMARY:Sunday Sequence Dance
DESCRIPTION:Join us from 8.00 pm – 10.30 pm every Sunday for our popular social dance evening. 50% popular Sequence Dancing plus Ballroom and Latin American.\nEnjoy The Venue’s unique atmosphere. Entry £7.00 per person.
URL:https://thevenuebirstall.com/event/sunday-sequence-dance-2023-05-07/
LOCATION:The Venue\, Market Street\, Birstall\, WF17 9EN\, United Kingdom
CATEGORIES:Social Dance Nights
ATTACH;FMTTYPE=image/jpeg:https://thevenuebirstall.com/wp-content/uploads/2020/05/IMG_0664-scaled.jpeg
ORGANIZER;CN="Michael Sandham":MAILTO:enquiries@thevenuebirstall.com
END:VEVENT
BEGIN:VEVENT
DTSTART;TZID=Europe/London:20260329T200000
DTEND;TZID=Europe/London:20260810T233000
DTSTAMP:20260425T173105
CREATED:20210809T110513Z
LAST-MODIFIED:20250624T022719Z
UID:10007972-1774814400-1786404600@thevenuebirstall.com
SUMMARY:Sunday Sequence Dance
DESCRIPTION:Join us from 8.00 pm – 10.30 pm every Sunday for our popular social dance evening. 50% popular Sequence Dancing plus Ballroom and Latin American.\nEnjoy The Venue’s unique atmosphere. Entry £7.00 per person.
URL:https://thevenuebirstall.com/event/sunday-sequence-dance-2023-07-02/
LOCATION:The Venue\, Market Street\, Birstall\, WF17 9EN\, United Kingdom
CATEGORIES:Social Dance Nights
ATTACH;FMTTYPE=image/jpeg:https://thevenuebirstall.com/wp-content/uploads/2020/05/IMG_0664-scaled.jpeg
ORGANIZER;CN="Michael Sandham":MAILTO:enquiries@thevenuebirstall.com
END:VEVENT
BEGIN:VEVENT
DTSTART;TZID=Europe/London:20260329T200000
DTEND;TZID=Europe/London:20260810T223000
DTSTAMP:20260425T173105
CREATED:20210809T110513Z
LAST-MODIFIED:20250624T022715Z
UID:10003006-1774814400-1786401000@thevenuebirstall.com
SUMMARY:Sunday Sequence Dance
DESCRIPTION:Join us from 8.00 pm – 10.30 pm every Sunday for our popular social dance evening. 50% popular Sequence Dancing plus Ballroom and Latin American.\nEnjoy The Venue’s unique atmosphere. Entry £7.00 per person.
URL:https://thevenuebirstall.com/event/sunday-sequence-dance-2023-04-02/
LOCATION:The Venue\, Market Street\, Birstall\, WF17 9EN\, United Kingdom
CATEGORIES:Social Dance Nights
ATTACH;FMTTYPE=image/jpeg:https://thevenuebirstall.com/wp-content/uploads/2020/05/IMG_0664-scaled.jpeg
ORGANIZER;CN="Michael Sandham":MAILTO:enquiries@thevenuebirstall.com
END:VEVENT
BEGIN:VEVENT
DTSTART;TZID=Europe/London:20260329T200000
DTEND;TZID=Europe/London:20260810T223000
DTSTAMP:20260425T173105
CREATED:20210809T110513Z
LAST-MODIFIED:20250624T022717Z
UID:10006082-1774814400-1786401000@thevenuebirstall.com
SUMMARY:Sunday Sequence Dance
DESCRIPTION:Join us from 8.00 pm – 10.30 pm every Sunday for our popular social dance evening. 50% popular Sequence Dancing plus Ballroom and Latin American.\nEnjoy The Venue’s unique atmosphere. Entry £7.00 per person.
URL:https://thevenuebirstall.com/event/sunday-sequence-dance-2023-05-28/
LOCATION:The Venue\, Market Street\, Birstall\, WF17 9EN\, United Kingdom
CATEGORIES:Social Dance Nights
ATTACH;FMTTYPE=image/jpeg:https://thevenuebirstall.com/wp-content/uploads/2020/05/IMG_0664-scaled.jpeg
ORGANIZER;CN="Michael Sandham":MAILTO:enquiries@thevenuebirstall.com
END:VEVENT
BEGIN:VEVENT
DTSTART;TZID=Europe/London:20260329T200000
DTEND;TZID=Europe/London:20260810T233000
DTSTAMP:20260425T173105
CREATED:20210809T110513Z
LAST-MODIFIED:20250624T022719Z
UID:10009094-1774814400-1786404600@thevenuebirstall.com
SUMMARY:Sunday Sequence Dance
DESCRIPTION:Join us from 8.00 pm – 10.30 pm every Sunday for our popular social dance evening. 50% popular Sequence Dancing plus Ballroom and Latin American.\nEnjoy The Venue’s unique atmosphere. Entry £7.00 per person.
URL:https://thevenuebirstall.com/event/sunday-sequence-dance-2023-07-23/
LOCATION:The Venue\, Market Street\, Birstall\, WF17 9EN\, United Kingdom
CATEGORIES:Social Dance Nights
ATTACH;FMTTYPE=image/jpeg:https://thevenuebirstall.com/wp-content/uploads/2020/05/IMG_0664-scaled.jpeg
ORGANIZER;CN="Michael Sandham":MAILTO:enquiries@thevenuebirstall.com
END:VEVENT
BEGIN:VEVENT
DTSTART;TZID=Europe/London:20260329T200000
DTEND;TZID=Europe/London:20260810T223000
DTSTAMP:20260425T173105
CREATED:20210809T110513Z
LAST-MODIFIED:20250624T022716Z
UID:10004167-1774814400-1786401000@thevenuebirstall.com
SUMMARY:Sunday Sequence Dance
DESCRIPTION:Join us from 8.00 pm – 10.30 pm every Sunday for our popular social dance evening. 50% popular Sequence Dancing plus Ballroom and Latin American.\nEnjoy The Venue’s unique atmosphere. Entry £7.00 per person.
URL:https://thevenuebirstall.com/event/sunday-sequence-dance-2023-04-23/
LOCATION:The Venue\, Market Street\, Birstall\, WF17 9EN\, United Kingdom
CATEGORIES:Social Dance Nights
ATTACH;FMTTYPE=image/jpeg:https://thevenuebirstall.com/wp-content/uploads/2020/05/IMG_0664-scaled.jpeg
ORGANIZER;CN="Michael Sandham":MAILTO:enquiries@thevenuebirstall.com
END:VEVENT
BEGIN:VEVENT
DTSTART;TZID=Europe/London:20260329T200000
DTEND;TZID=Europe/London:20260810T233000
DTSTAMP:20260425T173105
CREATED:20210809T110513Z
LAST-MODIFIED:20250624T022718Z
UID:10007219-1774814400-1786404600@thevenuebirstall.com
SUMMARY:Sunday Sequence Dance
DESCRIPTION:Join us from 8.00 pm – 10.30 pm every Sunday for our popular social dance evening. 50% popular Sequence Dancing plus Ballroom and Latin American.\nEnjoy The Venue’s unique atmosphere. Entry £7.00 per person.
URL:https://thevenuebirstall.com/event/sunday-sequence-dance-2023-06-18/
LOCATION:The Venue\, Market Street\, Birstall\, WF17 9EN\, United Kingdom
CATEGORIES:Social Dance Nights
ATTACH;FMTTYPE=image/jpeg:https://thevenuebirstall.com/wp-content/uploads/2020/05/IMG_0664-scaled.jpeg
ORGANIZER;CN="Michael Sandham":MAILTO:enquiries@thevenuebirstall.com
END:VEVENT
BEGIN:VEVENT
DTSTART;TZID=Europe/London:20260405T200000
DTEND;TZID=Europe/London:20260817T223000
DTSTAMP:20260425T173105
CREATED:20210809T110513Z
LAST-MODIFIED:20250624T022716Z
UID:10004168-1775419200-1787005800@thevenuebirstall.com
SUMMARY:Sunday Sequence Dance
DESCRIPTION:Join us from 8.00 pm – 10.30 pm every Sunday for our popular social dance evening. 50% popular Sequence Dancing plus Ballroom and Latin American.\nEnjoy The Venue’s unique atmosphere. Entry £7.00 per person.
URL:https://thevenuebirstall.com/event/sunday-sequence-dance-2023-04-23/
LOCATION:The Venue\, Market Street\, Birstall\, WF17 9EN\, United Kingdom
CATEGORIES:Social Dance Nights
ATTACH;FMTTYPE=image/jpeg:https://thevenuebirstall.com/wp-content/uploads/2020/05/IMG_0664-scaled.jpeg
ORGANIZER;CN="Michael Sandham":MAILTO:enquiries@thevenuebirstall.com
END:VEVENT
BEGIN:VEVENT
DTSTART;TZID=Europe/London:20260405T200000
DTEND;TZID=Europe/London:20260817T233000
DTSTAMP:20260425T173105
CREATED:20210809T110513Z
LAST-MODIFIED:20250624T022718Z
UID:10007220-1775419200-1787009400@thevenuebirstall.com
SUMMARY:Sunday Sequence Dance
DESCRIPTION:Join us from 8.00 pm – 10.30 pm every Sunday for our popular social dance evening. 50% popular Sequence Dancing plus Ballroom and Latin American.\nEnjoy The Venue’s unique atmosphere. Entry £7.00 per person.
URL:https://thevenuebirstall.com/event/sunday-sequence-dance-2023-06-18/
LOCATION:The Venue\, Market Street\, Birstall\, WF17 9EN\, United Kingdom
CATEGORIES:Social Dance Nights
ATTACH;FMTTYPE=image/jpeg:https://thevenuebirstall.com/wp-content/uploads/2020/05/IMG_0664-scaled.jpeg
ORGANIZER;CN="Michael Sandham":MAILTO:enquiries@thevenuebirstall.com
END:VEVENT
BEGIN:VEVENT
DTSTART;TZID=Europe/London:20260405T200000
DTEND;TZID=Europe/London:20260817T223000
DTSTAMP:20260425T173105
CREATED:20210809T110513Z
LAST-MODIFIED:20250624T022717Z
UID:10005320-1775419200-1787005800@thevenuebirstall.com
SUMMARY:Sunday Sequence Dance
DESCRIPTION:Join us from 8.00 pm – 10.30 pm every Sunday for our popular social dance evening. 50% popular Sequence Dancing plus Ballroom and Latin American.\nEnjoy The Venue’s unique atmosphere. Entry £7.00 per person.
URL:https://thevenuebirstall.com/event/sunday-sequence-dance-2023-05-14/
LOCATION:The Venue\, Market Street\, Birstall\, WF17 9EN\, United Kingdom
CATEGORIES:Social Dance Nights
ATTACH;FMTTYPE=image/jpeg:https://thevenuebirstall.com/wp-content/uploads/2020/05/IMG_0664-scaled.jpeg
ORGANIZER;CN="Michael Sandham":MAILTO:enquiries@thevenuebirstall.com
END:VEVENT
BEGIN:VEVENT
DTSTART;TZID=Europe/London:20260405T200000
DTEND;TZID=Europe/London:20260817T233000
DTSTAMP:20260425T173105
CREATED:20210809T110513Z
LAST-MODIFIED:20250624T022719Z
UID:10008348-1775419200-1787009400@thevenuebirstall.com
SUMMARY:Sunday Sequence Dance
DESCRIPTION:Join us from 8.00 pm – 10.30 pm every Sunday for our popular social dance evening. 50% popular Sequence Dancing plus Ballroom and Latin American.\nEnjoy The Venue’s unique atmosphere. Entry £7.00 per person.
URL:https://thevenuebirstall.com/event/sunday-sequence-dance-2023-07-09/
LOCATION:The Venue\, Market Street\, Birstall\, WF17 9EN\, United Kingdom
CATEGORIES:Social Dance Nights
ATTACH;FMTTYPE=image/jpeg:https://thevenuebirstall.com/wp-content/uploads/2020/05/IMG_0664-scaled.jpeg
ORGANIZER;CN="Michael Sandham":MAILTO:enquiries@thevenuebirstall.com
END:VEVENT
BEGIN:VEVENT
DTSTART;TZID=Europe/London:20260405T200000
DTEND;TZID=Europe/London:20260817T233000
DTSTAMP:20260425T173105
CREATED:20210809T110513Z
LAST-MODIFIED:20250624T022719Z
UID:10009467-1775419200-1787009400@thevenuebirstall.com
SUMMARY:Sunday Sequence Dance
DESCRIPTION:Join us from 8.00 pm – 10.30 pm every Sunday for our popular social dance evening. 50% popular Sequence Dancing plus Ballroom and Latin American.\nEnjoy The Venue’s unique atmosphere. Entry £7.00 per person.
URL:https://thevenuebirstall.com/event/sunday-sequence-dance-2023-07-30/
LOCATION:The Venue\, Market Street\, Birstall\, WF17 9EN\, United Kingdom
CATEGORIES:Social Dance Nights
ATTACH;FMTTYPE=image/jpeg:https://thevenuebirstall.com/wp-content/uploads/2020/05/IMG_0664-scaled.jpeg
ORGANIZER;CN="Michael Sandham":MAILTO:enquiries@thevenuebirstall.com
END:VEVENT
BEGIN:VEVENT
DTSTART;TZID=Europe/London:20260405T200000
DTEND;TZID=Europe/London:20260817T223000
DTSTAMP:20260425T173105
CREATED:20210809T110513Z
LAST-MODIFIED:20250624T022716Z
UID:10003395-1775419200-1787005800@thevenuebirstall.com
SUMMARY:Sunday Sequence Dance
DESCRIPTION:Join us from 8.00 pm – 10.30 pm every Sunday for our popular social dance evening. 50% popular Sequence Dancing plus Ballroom and Latin American.\nEnjoy The Venue’s unique atmosphere. Entry £7.00 per person.
URL:https://thevenuebirstall.com/event/sunday-sequence-dance-2023-04-09/
LOCATION:The Venue\, Market Street\, Birstall\, WF17 9EN\, United Kingdom
CATEGORIES:Social Dance Nights
ATTACH;FMTTYPE=image/jpeg:https://thevenuebirstall.com/wp-content/uploads/2020/05/IMG_0664-scaled.jpeg
ORGANIZER;CN="Michael Sandham":MAILTO:enquiries@thevenuebirstall.com
END:VEVENT
END:VCALENDAR