BEGIN:VCALENDAR
VERSION:2.0
PRODID:-//The Venue Birstall - ECPv6.15.20//NONSGML v1.0//EN
CALSCALE:GREGORIAN
METHOD:PUBLISH
X-WR-CALNAME:The Venue Birstall
X-ORIGINAL-URL:https://thevenuebirstall.com
X-WR-CALDESC:Events for The Venue Birstall
REFRESH-INTERVAL;VALUE=DURATION:PT1H
X-Robots-Tag:noindex
X-PUBLISHED-TTL:PT1H
BEGIN:VTIMEZONE
TZID:Europe/London
BEGIN:DAYLIGHT
TZOFFSETFROM:+0000
TZOFFSETTO:+0100
TZNAME:BST
DTSTART:20250330T010000
END:DAYLIGHT
BEGIN:STANDARD
TZOFFSETFROM:+0100
TZOFFSETTO:+0000
TZNAME:GMT
DTSTART:20251026T010000
END:STANDARD
BEGIN:DAYLIGHT
TZOFFSETFROM:+0000
TZOFFSETTO:+0100
TZNAME:BST
DTSTART:20260329T010000
END:DAYLIGHT
BEGIN:STANDARD
TZOFFSETFROM:+0100
TZOFFSETTO:+0000
TZNAME:GMT
DTSTART:20261025T010000
END:STANDARD
BEGIN:DAYLIGHT
TZOFFSETFROM:+0000
TZOFFSETTO:+0100
TZNAME:BST
DTSTART:20270328T010000
END:DAYLIGHT
BEGIN:STANDARD
TZOFFSETFROM:+0100
TZOFFSETTO:+0000
TZNAME:GMT
DTSTART:20271031T010000
END:STANDARD
BEGIN:DAYLIGHT
TZOFFSETFROM:+0000
TZOFFSETTO:+0100
TZNAME:BST
DTSTART:20280326T010000
END:DAYLIGHT
BEGIN:STANDARD
TZOFFSETFROM:+0100
TZOFFSETTO:+0000
TZNAME:GMT
DTSTART:20281029T010000
END:STANDARD
BEGIN:DAYLIGHT
TZOFFSETFROM:+0000
TZOFFSETTO:+0100
TZNAME:BST
DTSTART:20290325T010000
END:DAYLIGHT
BEGIN:STANDARD
TZOFFSETFROM:+0100
TZOFFSETTO:+0000
TZNAME:GMT
DTSTART:20291028T010000
END:STANDARD
END:VTIMEZONE
BEGIN:VEVENT
DTSTART;TZID=Europe/London:20260521T133000
DTEND;TZID=Europe/London:20260521T154500
DTSTAMP:20260423T180055
CREATED:20250713T205132Z
LAST-MODIFIED:20250913T130133Z
UID:10010149-1779370200-1779378300@thevenuebirstall.com
SUMMARY:Monthly Tea Dance
DESCRIPTION:From : 1.30pm-3.45.pm Fee £5.50 \nCome along and enjoy an afternoon of 50/50 dancing to great music. A cup of tea and biscuits are provided to give you a little break during the afternoon. \n 
URL:https://thevenuebirstall.com/event/monthly-tea-dance-4-2-2-2-2/2026-05-21/
LOCATION:The Venue\, Market Street\, Birstall\, WF17 9EN\, United Kingdom
CATEGORIES:Weekly Events
ATTACH;FMTTYPE=image/png:https://thevenuebirstall.com/wp-content/uploads/2021/08/Black-Minimalist-Dance-Ballet-World-Dance-Day-Facebook-Post.png
ORGANIZER;CN="Michael Sandham":MAILTO:enquiries@thevenuebirstall.com
END:VEVENT
BEGIN:VEVENT
DTSTART;TZID=Europe/London:20260618T133000
DTEND;TZID=Europe/London:20260618T154500
DTSTAMP:20260423T180055
CREATED:20250713T205132Z
LAST-MODIFIED:20250913T130133Z
UID:10010150-1781789400-1781797500@thevenuebirstall.com
SUMMARY:Monthly Tea Dance
DESCRIPTION:From : 1.30pm-3.45.pm Fee £5.50 \nCome along and enjoy an afternoon of 50/50 dancing to great music. A cup of tea and biscuits are provided to give you a little break during the afternoon. \n 
URL:https://thevenuebirstall.com/event/monthly-tea-dance-4-2-2-2-2/2026-06-18/
LOCATION:The Venue\, Market Street\, Birstall\, WF17 9EN\, United Kingdom
CATEGORIES:Weekly Events
ATTACH;FMTTYPE=image/png:https://thevenuebirstall.com/wp-content/uploads/2021/08/Black-Minimalist-Dance-Ballet-World-Dance-Day-Facebook-Post.png
ORGANIZER;CN="Michael Sandham":MAILTO:enquiries@thevenuebirstall.com
END:VEVENT
BEGIN:VEVENT
DTSTART;TZID=Europe/London:20260716T133000
DTEND;TZID=Europe/London:20260716T154500
DTSTAMP:20260423T180055
CREATED:20250713T205132Z
LAST-MODIFIED:20250913T130133Z
UID:10010151-1784208600-1784216700@thevenuebirstall.com
SUMMARY:Monthly Tea Dance
DESCRIPTION:From : 1.30pm-3.45.pm Fee £5.50 \nCome along and enjoy an afternoon of 50/50 dancing to great music. A cup of tea and biscuits are provided to give you a little break during the afternoon. \n 
URL:https://thevenuebirstall.com/event/monthly-tea-dance-4-2-2-2-2/2026-07-16/
LOCATION:The Venue\, Market Street\, Birstall\, WF17 9EN\, United Kingdom
CATEGORIES:Weekly Events
ATTACH;FMTTYPE=image/png:https://thevenuebirstall.com/wp-content/uploads/2021/08/Black-Minimalist-Dance-Ballet-World-Dance-Day-Facebook-Post.png
ORGANIZER;CN="Michael Sandham":MAILTO:enquiries@thevenuebirstall.com
END:VEVENT
BEGIN:VEVENT
DTSTART;TZID=Europe/London:20260820T133000
DTEND;TZID=Europe/London:20260820T154500
DTSTAMP:20260423T180055
CREATED:20250713T205132Z
LAST-MODIFIED:20250913T130133Z
UID:10010152-1787232600-1787240700@thevenuebirstall.com
SUMMARY:Monthly Tea Dance
DESCRIPTION:From : 1.30pm-3.45.pm Fee £5.50 \nCome along and enjoy an afternoon of 50/50 dancing to great music. A cup of tea and biscuits are provided to give you a little break during the afternoon. \n 
URL:https://thevenuebirstall.com/event/monthly-tea-dance-4-2-2-2-2/2026-08-20/
LOCATION:The Venue\, Market Street\, Birstall\, WF17 9EN\, United Kingdom
CATEGORIES:Weekly Events
ATTACH;FMTTYPE=image/png:https://thevenuebirstall.com/wp-content/uploads/2021/08/Black-Minimalist-Dance-Ballet-World-Dance-Day-Facebook-Post.png
ORGANIZER;CN="Michael Sandham":MAILTO:enquiries@thevenuebirstall.com
END:VEVENT
BEGIN:VEVENT
DTSTART;TZID=Europe/London:20260917T133000
DTEND;TZID=Europe/London:20260917T154500
DTSTAMP:20260423T180055
CREATED:20250713T205132Z
LAST-MODIFIED:20250913T130133Z
UID:10010153-1789651800-1789659900@thevenuebirstall.com
SUMMARY:Monthly Tea Dance
DESCRIPTION:From : 1.30pm-3.45.pm Fee £5.50 \nCome along and enjoy an afternoon of 50/50 dancing to great music. A cup of tea and biscuits are provided to give you a little break during the afternoon. \n 
URL:https://thevenuebirstall.com/event/monthly-tea-dance-4-2-2-2-2/2026-09-17/
LOCATION:The Venue\, Market Street\, Birstall\, WF17 9EN\, United Kingdom
CATEGORIES:Weekly Events
ATTACH;FMTTYPE=image/png:https://thevenuebirstall.com/wp-content/uploads/2021/08/Black-Minimalist-Dance-Ballet-World-Dance-Day-Facebook-Post.png
ORGANIZER;CN="Michael Sandham":MAILTO:enquiries@thevenuebirstall.com
END:VEVENT
BEGIN:VEVENT
DTSTART;TZID=Europe/London:20261015T133000
DTEND;TZID=Europe/London:20261015T154500
DTSTAMP:20260423T180055
CREATED:20250713T205132Z
LAST-MODIFIED:20250913T130133Z
UID:10010154-1792071000-1792079100@thevenuebirstall.com
SUMMARY:Monthly Tea Dance
DESCRIPTION:From : 1.30pm-3.45.pm Fee £5.50 \nCome along and enjoy an afternoon of 50/50 dancing to great music. A cup of tea and biscuits are provided to give you a little break during the afternoon. \n 
URL:https://thevenuebirstall.com/event/monthly-tea-dance-4-2-2-2-2/2026-10-15/
LOCATION:The Venue\, Market Street\, Birstall\, WF17 9EN\, United Kingdom
CATEGORIES:Weekly Events
ATTACH;FMTTYPE=image/png:https://thevenuebirstall.com/wp-content/uploads/2021/08/Black-Minimalist-Dance-Ballet-World-Dance-Day-Facebook-Post.png
ORGANIZER;CN="Michael Sandham":MAILTO:enquiries@thevenuebirstall.com
END:VEVENT
BEGIN:VEVENT
DTSTART;TZID=Europe/London:20261119T133000
DTEND;TZID=Europe/London:20261119T154500
DTSTAMP:20260423T180055
CREATED:20250713T205132Z
LAST-MODIFIED:20250913T130133Z
UID:10010155-1795095000-1795103100@thevenuebirstall.com
SUMMARY:Monthly Tea Dance
DESCRIPTION:From : 1.30pm-3.45.pm Fee £5.50 \nCome along and enjoy an afternoon of 50/50 dancing to great music. A cup of tea and biscuits are provided to give you a little break during the afternoon. \n 
URL:https://thevenuebirstall.com/event/monthly-tea-dance-4-2-2-2-2/2026-11-19/
LOCATION:The Venue\, Market Street\, Birstall\, WF17 9EN\, United Kingdom
CATEGORIES:Weekly Events
ATTACH;FMTTYPE=image/png:https://thevenuebirstall.com/wp-content/uploads/2021/08/Black-Minimalist-Dance-Ballet-World-Dance-Day-Facebook-Post.png
ORGANIZER;CN="Michael Sandham":MAILTO:enquiries@thevenuebirstall.com
END:VEVENT
BEGIN:VEVENT
DTSTART;TZID=Europe/London:20261217T133000
DTEND;TZID=Europe/London:20261217T154500
DTSTAMP:20260423T180055
CREATED:20250713T205132Z
LAST-MODIFIED:20250913T130133Z
UID:10010156-1797514200-1797522300@thevenuebirstall.com
SUMMARY:Monthly Tea Dance
DESCRIPTION:From : 1.30pm-3.45.pm Fee £5.50 \nCome along and enjoy an afternoon of 50/50 dancing to great music. A cup of tea and biscuits are provided to give you a little break during the afternoon. \n 
URL:https://thevenuebirstall.com/event/monthly-tea-dance-4-2-2-2-2/2026-12-17/
LOCATION:The Venue\, Market Street\, Birstall\, WF17 9EN\, United Kingdom
CATEGORIES:Weekly Events
ATTACH;FMTTYPE=image/png:https://thevenuebirstall.com/wp-content/uploads/2021/08/Black-Minimalist-Dance-Ballet-World-Dance-Day-Facebook-Post.png
ORGANIZER;CN="Michael Sandham":MAILTO:enquiries@thevenuebirstall.com
END:VEVENT
BEGIN:VEVENT
DTSTART;TZID=Europe/London:20270121T133000
DTEND;TZID=Europe/London:20270121T154500
DTSTAMP:20260423T180055
CREATED:20250713T205132Z
LAST-MODIFIED:20250913T130133Z
UID:10010157-1800538200-1800546300@thevenuebirstall.com
SUMMARY:Monthly Tea Dance
DESCRIPTION:From : 1.30pm-3.45.pm Fee £5.50 \nCome along and enjoy an afternoon of 50/50 dancing to great music. A cup of tea and biscuits are provided to give you a little break during the afternoon. \n 
URL:https://thevenuebirstall.com/event/monthly-tea-dance-4-2-2-2-2/2027-01-21/
LOCATION:The Venue\, Market Street\, Birstall\, WF17 9EN\, United Kingdom
CATEGORIES:Weekly Events
ATTACH;FMTTYPE=image/png:https://thevenuebirstall.com/wp-content/uploads/2021/08/Black-Minimalist-Dance-Ballet-World-Dance-Day-Facebook-Post.png
ORGANIZER;CN="Michael Sandham":MAILTO:enquiries@thevenuebirstall.com
END:VEVENT
BEGIN:VEVENT
DTSTART;TZID=Europe/London:20270218T133000
DTEND;TZID=Europe/London:20270218T154500
DTSTAMP:20260423T180055
CREATED:20250713T205132Z
LAST-MODIFIED:20250913T130133Z
UID:10010158-1802957400-1802965500@thevenuebirstall.com
SUMMARY:Monthly Tea Dance
DESCRIPTION:From : 1.30pm-3.45.pm Fee £5.50 \nCome along and enjoy an afternoon of 50/50 dancing to great music. A cup of tea and biscuits are provided to give you a little break during the afternoon. \n 
URL:https://thevenuebirstall.com/event/monthly-tea-dance-4-2-2-2-2/2027-02-18/
LOCATION:The Venue\, Market Street\, Birstall\, WF17 9EN\, United Kingdom
CATEGORIES:Weekly Events
ATTACH;FMTTYPE=image/png:https://thevenuebirstall.com/wp-content/uploads/2021/08/Black-Minimalist-Dance-Ballet-World-Dance-Day-Facebook-Post.png
ORGANIZER;CN="Michael Sandham":MAILTO:enquiries@thevenuebirstall.com
END:VEVENT
BEGIN:VEVENT
DTSTART;TZID=Europe/London:20270318T133000
DTEND;TZID=Europe/London:20270318T154500
DTSTAMP:20260423T180055
CREATED:20250713T205132Z
LAST-MODIFIED:20250913T130133Z
UID:10010159-1805376600-1805384700@thevenuebirstall.com
SUMMARY:Monthly Tea Dance
DESCRIPTION:From : 1.30pm-3.45.pm Fee £5.50 \nCome along and enjoy an afternoon of 50/50 dancing to great music. A cup of tea and biscuits are provided to give you a little break during the afternoon. \n 
URL:https://thevenuebirstall.com/event/monthly-tea-dance-4-2-2-2-2/2027-03-18/
LOCATION:The Venue\, Market Street\, Birstall\, WF17 9EN\, United Kingdom
CATEGORIES:Weekly Events
ATTACH;FMTTYPE=image/png:https://thevenuebirstall.com/wp-content/uploads/2021/08/Black-Minimalist-Dance-Ballet-World-Dance-Day-Facebook-Post.png
ORGANIZER;CN="Michael Sandham":MAILTO:enquiries@thevenuebirstall.com
END:VEVENT
BEGIN:VEVENT
DTSTART;TZID=Europe/London:20270415T133000
DTEND;TZID=Europe/London:20270415T154500
DTSTAMP:20260423T180055
CREATED:20250713T205132Z
LAST-MODIFIED:20250913T130133Z
UID:10010160-1807795800-1807803900@thevenuebirstall.com
SUMMARY:Monthly Tea Dance
DESCRIPTION:From : 1.30pm-3.45.pm Fee £5.50 \nCome along and enjoy an afternoon of 50/50 dancing to great music. A cup of tea and biscuits are provided to give you a little break during the afternoon. \n 
URL:https://thevenuebirstall.com/event/monthly-tea-dance-4-2-2-2-2/2027-04-15/
LOCATION:The Venue\, Market Street\, Birstall\, WF17 9EN\, United Kingdom
CATEGORIES:Weekly Events
ATTACH;FMTTYPE=image/png:https://thevenuebirstall.com/wp-content/uploads/2021/08/Black-Minimalist-Dance-Ballet-World-Dance-Day-Facebook-Post.png
ORGANIZER;CN="Michael Sandham":MAILTO:enquiries@thevenuebirstall.com
END:VEVENT
BEGIN:VEVENT
DTSTART;TZID=Europe/London:20270520T133000
DTEND;TZID=Europe/London:20270520T154500
DTSTAMP:20260423T180055
CREATED:20250713T205132Z
LAST-MODIFIED:20250913T130133Z
UID:10010161-1810819800-1810827900@thevenuebirstall.com
SUMMARY:Monthly Tea Dance
DESCRIPTION:From : 1.30pm-3.45.pm Fee £5.50 \nCome along and enjoy an afternoon of 50/50 dancing to great music. A cup of tea and biscuits are provided to give you a little break during the afternoon. \n 
URL:https://thevenuebirstall.com/event/monthly-tea-dance-4-2-2-2-2/2027-05-20/
LOCATION:The Venue\, Market Street\, Birstall\, WF17 9EN\, United Kingdom
CATEGORIES:Weekly Events
ATTACH;FMTTYPE=image/png:https://thevenuebirstall.com/wp-content/uploads/2021/08/Black-Minimalist-Dance-Ballet-World-Dance-Day-Facebook-Post.png
ORGANIZER;CN="Michael Sandham":MAILTO:enquiries@thevenuebirstall.com
END:VEVENT
BEGIN:VEVENT
DTSTART;TZID=Europe/London:20270617T133000
DTEND;TZID=Europe/London:20270617T154500
DTSTAMP:20260423T180055
CREATED:20250713T205132Z
LAST-MODIFIED:20250913T130133Z
UID:10010162-1813239000-1813247100@thevenuebirstall.com
SUMMARY:Monthly Tea Dance
DESCRIPTION:From : 1.30pm-3.45.pm Fee £5.50 \nCome along and enjoy an afternoon of 50/50 dancing to great music. A cup of tea and biscuits are provided to give you a little break during the afternoon. \n 
URL:https://thevenuebirstall.com/event/monthly-tea-dance-4-2-2-2-2/2027-06-17/
LOCATION:The Venue\, Market Street\, Birstall\, WF17 9EN\, United Kingdom
CATEGORIES:Weekly Events
ATTACH;FMTTYPE=image/png:https://thevenuebirstall.com/wp-content/uploads/2021/08/Black-Minimalist-Dance-Ballet-World-Dance-Day-Facebook-Post.png
ORGANIZER;CN="Michael Sandham":MAILTO:enquiries@thevenuebirstall.com
END:VEVENT
BEGIN:VEVENT
DTSTART;TZID=Europe/London:20270715T133000
DTEND;TZID=Europe/London:20270715T154500
DTSTAMP:20260423T180055
CREATED:20250713T205132Z
LAST-MODIFIED:20250913T130133Z
UID:10010163-1815658200-1815666300@thevenuebirstall.com
SUMMARY:Monthly Tea Dance
DESCRIPTION:From : 1.30pm-3.45.pm Fee £5.50 \nCome along and enjoy an afternoon of 50/50 dancing to great music. A cup of tea and biscuits are provided to give you a little break during the afternoon. \n 
URL:https://thevenuebirstall.com/event/monthly-tea-dance-4-2-2-2-2/2027-07-15/
LOCATION:The Venue\, Market Street\, Birstall\, WF17 9EN\, United Kingdom
CATEGORIES:Weekly Events
ATTACH;FMTTYPE=image/png:https://thevenuebirstall.com/wp-content/uploads/2021/08/Black-Minimalist-Dance-Ballet-World-Dance-Day-Facebook-Post.png
ORGANIZER;CN="Michael Sandham":MAILTO:enquiries@thevenuebirstall.com
END:VEVENT
BEGIN:VEVENT
DTSTART;TZID=Europe/London:20270819T133000
DTEND;TZID=Europe/London:20270819T154500
DTSTAMP:20260423T180055
CREATED:20250713T205132Z
LAST-MODIFIED:20250913T130133Z
UID:10010164-1818682200-1818690300@thevenuebirstall.com
SUMMARY:Monthly Tea Dance
DESCRIPTION:From : 1.30pm-3.45.pm Fee £5.50 \nCome along and enjoy an afternoon of 50/50 dancing to great music. A cup of tea and biscuits are provided to give you a little break during the afternoon. \n 
URL:https://thevenuebirstall.com/event/monthly-tea-dance-4-2-2-2-2/2027-08-19/
LOCATION:The Venue\, Market Street\, Birstall\, WF17 9EN\, United Kingdom
CATEGORIES:Weekly Events
ATTACH;FMTTYPE=image/png:https://thevenuebirstall.com/wp-content/uploads/2021/08/Black-Minimalist-Dance-Ballet-World-Dance-Day-Facebook-Post.png
ORGANIZER;CN="Michael Sandham":MAILTO:enquiries@thevenuebirstall.com
END:VEVENT
BEGIN:VEVENT
DTSTART;TZID=Europe/London:20270916T133000
DTEND;TZID=Europe/London:20270916T154500
DTSTAMP:20260423T180055
CREATED:20250713T205132Z
LAST-MODIFIED:20250913T130133Z
UID:10010165-1821101400-1821109500@thevenuebirstall.com
SUMMARY:Monthly Tea Dance
DESCRIPTION:From : 1.30pm-3.45.pm Fee £5.50 \nCome along and enjoy an afternoon of 50/50 dancing to great music. A cup of tea and biscuits are provided to give you a little break during the afternoon. \n 
URL:https://thevenuebirstall.com/event/monthly-tea-dance-4-2-2-2-2/2027-09-16/
LOCATION:The Venue\, Market Street\, Birstall\, WF17 9EN\, United Kingdom
CATEGORIES:Weekly Events
ATTACH;FMTTYPE=image/png:https://thevenuebirstall.com/wp-content/uploads/2021/08/Black-Minimalist-Dance-Ballet-World-Dance-Day-Facebook-Post.png
ORGANIZER;CN="Michael Sandham":MAILTO:enquiries@thevenuebirstall.com
END:VEVENT
BEGIN:VEVENT
DTSTART;TZID=Europe/London:20271021T133000
DTEND;TZID=Europe/London:20271021T154500
DTSTAMP:20260423T180055
CREATED:20250713T205132Z
LAST-MODIFIED:20250913T130133Z
UID:10010166-1824125400-1824133500@thevenuebirstall.com
SUMMARY:Monthly Tea Dance
DESCRIPTION:From : 1.30pm-3.45.pm Fee £5.50 \nCome along and enjoy an afternoon of 50/50 dancing to great music. A cup of tea and biscuits are provided to give you a little break during the afternoon. \n 
URL:https://thevenuebirstall.com/event/monthly-tea-dance-4-2-2-2-2/2027-10-21/
LOCATION:The Venue\, Market Street\, Birstall\, WF17 9EN\, United Kingdom
CATEGORIES:Weekly Events
ATTACH;FMTTYPE=image/png:https://thevenuebirstall.com/wp-content/uploads/2021/08/Black-Minimalist-Dance-Ballet-World-Dance-Day-Facebook-Post.png
ORGANIZER;CN="Michael Sandham":MAILTO:enquiries@thevenuebirstall.com
END:VEVENT
BEGIN:VEVENT
DTSTART;TZID=Europe/London:20271118T133000
DTEND;TZID=Europe/London:20271118T154500
DTSTAMP:20260423T180055
CREATED:20250713T205132Z
LAST-MODIFIED:20250913T130133Z
UID:10010167-1826544600-1826552700@thevenuebirstall.com
SUMMARY:Monthly Tea Dance
DESCRIPTION:From : 1.30pm-3.45.pm Fee £5.50 \nCome along and enjoy an afternoon of 50/50 dancing to great music. A cup of tea and biscuits are provided to give you a little break during the afternoon. \n 
URL:https://thevenuebirstall.com/event/monthly-tea-dance-4-2-2-2-2/2027-11-18/
LOCATION:The Venue\, Market Street\, Birstall\, WF17 9EN\, United Kingdom
CATEGORIES:Weekly Events
ATTACH;FMTTYPE=image/png:https://thevenuebirstall.com/wp-content/uploads/2021/08/Black-Minimalist-Dance-Ballet-World-Dance-Day-Facebook-Post.png
ORGANIZER;CN="Michael Sandham":MAILTO:enquiries@thevenuebirstall.com
END:VEVENT
BEGIN:VEVENT
DTSTART;TZID=Europe/London:20271216T133000
DTEND;TZID=Europe/London:20271216T154500
DTSTAMP:20260423T180055
CREATED:20250713T205132Z
LAST-MODIFIED:20250913T130133Z
UID:10010168-1828963800-1828971900@thevenuebirstall.com
SUMMARY:Monthly Tea Dance
DESCRIPTION:From : 1.30pm-3.45.pm Fee £5.50 \nCome along and enjoy an afternoon of 50/50 dancing to great music. A cup of tea and biscuits are provided to give you a little break during the afternoon. \n 
URL:https://thevenuebirstall.com/event/monthly-tea-dance-4-2-2-2-2/2027-12-16/
LOCATION:The Venue\, Market Street\, Birstall\, WF17 9EN\, United Kingdom
CATEGORIES:Weekly Events
ATTACH;FMTTYPE=image/png:https://thevenuebirstall.com/wp-content/uploads/2021/08/Black-Minimalist-Dance-Ballet-World-Dance-Day-Facebook-Post.png
ORGANIZER;CN="Michael Sandham":MAILTO:enquiries@thevenuebirstall.com
END:VEVENT
BEGIN:VEVENT
DTSTART;TZID=Europe/London:20280120T133000
DTEND;TZID=Europe/London:20280120T154500
DTSTAMP:20260423T180055
CREATED:20250713T205132Z
LAST-MODIFIED:20250913T130133Z
UID:10010169-1831987800-1831995900@thevenuebirstall.com
SUMMARY:Monthly Tea Dance
DESCRIPTION:From : 1.30pm-3.45.pm Fee £5.50 \nCome along and enjoy an afternoon of 50/50 dancing to great music. A cup of tea and biscuits are provided to give you a little break during the afternoon. \n 
URL:https://thevenuebirstall.com/event/monthly-tea-dance-4-2-2-2-2/2028-01-20/
LOCATION:The Venue\, Market Street\, Birstall\, WF17 9EN\, United Kingdom
CATEGORIES:Weekly Events
ATTACH;FMTTYPE=image/png:https://thevenuebirstall.com/wp-content/uploads/2021/08/Black-Minimalist-Dance-Ballet-World-Dance-Day-Facebook-Post.png
ORGANIZER;CN="Michael Sandham":MAILTO:enquiries@thevenuebirstall.com
END:VEVENT
BEGIN:VEVENT
DTSTART;TZID=Europe/London:20280217T133000
DTEND;TZID=Europe/London:20280217T154500
DTSTAMP:20260423T180055
CREATED:20250713T205132Z
LAST-MODIFIED:20250913T130133Z
UID:10010170-1834407000-1834415100@thevenuebirstall.com
SUMMARY:Monthly Tea Dance
DESCRIPTION:From : 1.30pm-3.45.pm Fee £5.50 \nCome along and enjoy an afternoon of 50/50 dancing to great music. A cup of tea and biscuits are provided to give you a little break during the afternoon. \n 
URL:https://thevenuebirstall.com/event/monthly-tea-dance-4-2-2-2-2/2028-02-17/
LOCATION:The Venue\, Market Street\, Birstall\, WF17 9EN\, United Kingdom
CATEGORIES:Weekly Events
ATTACH;FMTTYPE=image/png:https://thevenuebirstall.com/wp-content/uploads/2021/08/Black-Minimalist-Dance-Ballet-World-Dance-Day-Facebook-Post.png
ORGANIZER;CN="Michael Sandham":MAILTO:enquiries@thevenuebirstall.com
END:VEVENT
BEGIN:VEVENT
DTSTART;TZID=Europe/London:20280316T133000
DTEND;TZID=Europe/London:20280316T154500
DTSTAMP:20260423T180055
CREATED:20250713T205132Z
LAST-MODIFIED:20250913T130133Z
UID:10010171-1836826200-1836834300@thevenuebirstall.com
SUMMARY:Monthly Tea Dance
DESCRIPTION:From : 1.30pm-3.45.pm Fee £5.50 \nCome along and enjoy an afternoon of 50/50 dancing to great music. A cup of tea and biscuits are provided to give you a little break during the afternoon. \n 
URL:https://thevenuebirstall.com/event/monthly-tea-dance-4-2-2-2-2/2028-03-16/
LOCATION:The Venue\, Market Street\, Birstall\, WF17 9EN\, United Kingdom
CATEGORIES:Weekly Events
ATTACH;FMTTYPE=image/png:https://thevenuebirstall.com/wp-content/uploads/2021/08/Black-Minimalist-Dance-Ballet-World-Dance-Day-Facebook-Post.png
ORGANIZER;CN="Michael Sandham":MAILTO:enquiries@thevenuebirstall.com
END:VEVENT
BEGIN:VEVENT
DTSTART;TZID=Europe/London:20280420T133000
DTEND;TZID=Europe/London:20280420T154500
DTSTAMP:20260423T180055
CREATED:20250713T205132Z
LAST-MODIFIED:20250913T130133Z
UID:10010172-1839850200-1839858300@thevenuebirstall.com
SUMMARY:Monthly Tea Dance
DESCRIPTION:From : 1.30pm-3.45.pm Fee £5.50 \nCome along and enjoy an afternoon of 50/50 dancing to great music. A cup of tea and biscuits are provided to give you a little break during the afternoon. \n 
URL:https://thevenuebirstall.com/event/monthly-tea-dance-4-2-2-2-2/2028-04-20/
LOCATION:The Venue\, Market Street\, Birstall\, WF17 9EN\, United Kingdom
CATEGORIES:Weekly Events
ATTACH;FMTTYPE=image/png:https://thevenuebirstall.com/wp-content/uploads/2021/08/Black-Minimalist-Dance-Ballet-World-Dance-Day-Facebook-Post.png
ORGANIZER;CN="Michael Sandham":MAILTO:enquiries@thevenuebirstall.com
END:VEVENT
BEGIN:VEVENT
DTSTART;TZID=Europe/London:20280518T133000
DTEND;TZID=Europe/London:20280518T154500
DTSTAMP:20260423T180055
CREATED:20250713T205132Z
LAST-MODIFIED:20250913T130133Z
UID:10010173-1842269400-1842277500@thevenuebirstall.com
SUMMARY:Monthly Tea Dance
DESCRIPTION:From : 1.30pm-3.45.pm Fee £5.50 \nCome along and enjoy an afternoon of 50/50 dancing to great music. A cup of tea and biscuits are provided to give you a little break during the afternoon. \n 
URL:https://thevenuebirstall.com/event/monthly-tea-dance-4-2-2-2-2/2028-05-18/
LOCATION:The Venue\, Market Street\, Birstall\, WF17 9EN\, United Kingdom
CATEGORIES:Weekly Events
ATTACH;FMTTYPE=image/png:https://thevenuebirstall.com/wp-content/uploads/2021/08/Black-Minimalist-Dance-Ballet-World-Dance-Day-Facebook-Post.png
ORGANIZER;CN="Michael Sandham":MAILTO:enquiries@thevenuebirstall.com
END:VEVENT
BEGIN:VEVENT
DTSTART;TZID=Europe/London:20280615T133000
DTEND;TZID=Europe/London:20280615T154500
DTSTAMP:20260423T180055
CREATED:20250713T205132Z
LAST-MODIFIED:20250913T130133Z
UID:10010174-1844688600-1844696700@thevenuebirstall.com
SUMMARY:Monthly Tea Dance
DESCRIPTION:From : 1.30pm-3.45.pm Fee £5.50 \nCome along and enjoy an afternoon of 50/50 dancing to great music. A cup of tea and biscuits are provided to give you a little break during the afternoon. \n 
URL:https://thevenuebirstall.com/event/monthly-tea-dance-4-2-2-2-2/2028-06-15/
LOCATION:The Venue\, Market Street\, Birstall\, WF17 9EN\, United Kingdom
CATEGORIES:Weekly Events
ATTACH;FMTTYPE=image/png:https://thevenuebirstall.com/wp-content/uploads/2021/08/Black-Minimalist-Dance-Ballet-World-Dance-Day-Facebook-Post.png
ORGANIZER;CN="Michael Sandham":MAILTO:enquiries@thevenuebirstall.com
END:VEVENT
BEGIN:VEVENT
DTSTART;TZID=Europe/London:20280720T133000
DTEND;TZID=Europe/London:20280720T154500
DTSTAMP:20260423T180055
CREATED:20250713T205132Z
LAST-MODIFIED:20250913T130133Z
UID:10010175-1847712600-1847720700@thevenuebirstall.com
SUMMARY:Monthly Tea Dance
DESCRIPTION:From : 1.30pm-3.45.pm Fee £5.50 \nCome along and enjoy an afternoon of 50/50 dancing to great music. A cup of tea and biscuits are provided to give you a little break during the afternoon. \n 
URL:https://thevenuebirstall.com/event/monthly-tea-dance-4-2-2-2-2/2028-07-20/
LOCATION:The Venue\, Market Street\, Birstall\, WF17 9EN\, United Kingdom
CATEGORIES:Weekly Events
ATTACH;FMTTYPE=image/png:https://thevenuebirstall.com/wp-content/uploads/2021/08/Black-Minimalist-Dance-Ballet-World-Dance-Day-Facebook-Post.png
ORGANIZER;CN="Michael Sandham":MAILTO:enquiries@thevenuebirstall.com
END:VEVENT
BEGIN:VEVENT
DTSTART;TZID=Europe/London:20280817T133000
DTEND;TZID=Europe/London:20280817T154500
DTSTAMP:20260423T180055
CREATED:20250713T205132Z
LAST-MODIFIED:20250913T130133Z
UID:10010176-1850131800-1850139900@thevenuebirstall.com
SUMMARY:Monthly Tea Dance
DESCRIPTION:From : 1.30pm-3.45.pm Fee £5.50 \nCome along and enjoy an afternoon of 50/50 dancing to great music. A cup of tea and biscuits are provided to give you a little break during the afternoon. \n 
URL:https://thevenuebirstall.com/event/monthly-tea-dance-4-2-2-2-2/2028-08-17/
LOCATION:The Venue\, Market Street\, Birstall\, WF17 9EN\, United Kingdom
CATEGORIES:Weekly Events
ATTACH;FMTTYPE=image/png:https://thevenuebirstall.com/wp-content/uploads/2021/08/Black-Minimalist-Dance-Ballet-World-Dance-Day-Facebook-Post.png
ORGANIZER;CN="Michael Sandham":MAILTO:enquiries@thevenuebirstall.com
END:VEVENT
BEGIN:VEVENT
DTSTART;TZID=Europe/London:20280921T133000
DTEND;TZID=Europe/London:20280921T154500
DTSTAMP:20260423T180055
CREATED:20250713T205132Z
LAST-MODIFIED:20250913T130133Z
UID:10010177-1853155800-1853163900@thevenuebirstall.com
SUMMARY:Monthly Tea Dance
DESCRIPTION:From : 1.30pm-3.45.pm Fee £5.50 \nCome along and enjoy an afternoon of 50/50 dancing to great music. A cup of tea and biscuits are provided to give you a little break during the afternoon. \n 
URL:https://thevenuebirstall.com/event/monthly-tea-dance-4-2-2-2-2/2028-09-21/
LOCATION:The Venue\, Market Street\, Birstall\, WF17 9EN\, United Kingdom
CATEGORIES:Weekly Events
ATTACH;FMTTYPE=image/png:https://thevenuebirstall.com/wp-content/uploads/2021/08/Black-Minimalist-Dance-Ballet-World-Dance-Day-Facebook-Post.png
ORGANIZER;CN="Michael Sandham":MAILTO:enquiries@thevenuebirstall.com
END:VEVENT
BEGIN:VEVENT
DTSTART;TZID=Europe/London:20281019T133000
DTEND;TZID=Europe/London:20281019T154500
DTSTAMP:20260423T180055
CREATED:20250713T205132Z
LAST-MODIFIED:20250913T130133Z
UID:10010178-1855575000-1855583100@thevenuebirstall.com
SUMMARY:Monthly Tea Dance
DESCRIPTION:From : 1.30pm-3.45.pm Fee £5.50 \nCome along and enjoy an afternoon of 50/50 dancing to great music. A cup of tea and biscuits are provided to give you a little break during the afternoon. \n 
URL:https://thevenuebirstall.com/event/monthly-tea-dance-4-2-2-2-2/2028-10-19/
LOCATION:The Venue\, Market Street\, Birstall\, WF17 9EN\, United Kingdom
CATEGORIES:Weekly Events
ATTACH;FMTTYPE=image/png:https://thevenuebirstall.com/wp-content/uploads/2021/08/Black-Minimalist-Dance-Ballet-World-Dance-Day-Facebook-Post.png
ORGANIZER;CN="Michael Sandham":MAILTO:enquiries@thevenuebirstall.com
END:VEVENT
END:VCALENDAR